BEGIN:VCALENDAR
VERSION:2.0
PRODID:-//ChamberMaster//Event Calendar 2.0//EN
METHOD:PUBLISH
X-PUBLISHED-TTL:P3D
REFRESH-INTERVAL:P3D
CALSCALE:GREGORIAN
BEGIN:VEVENT
DTSTART:20130712T220000Z
DTEND:20130712T230000Z
X-MICROSOFT-CDO-ALLDAYEVENT:FALSE
SUMMARY:YOGA Masterclass
DESCRIPTION:Join us for a YOGA masterclass with Skye Hall!!\n\n	We're changing it up for the night and stretching it out!
X-ALT-DESC;FMTTYPE=text/html:<p>\n	Join us for a YOGA masterclass with Skye Hall!!</p>\n<p>\n	We&#39\;re changing it up for the night and stretching it out!&nbsp\;</p>\n
LOCATION:Brickhouse Cardio Club 37 High Street
UID:e.726.3888
SEQUENCE:3
DTSTAMP:20260422T003120Z
URL:http://public.oceanchamber.org/events/details/yoga-masterclass-3888
END:VEVENT

END:VCALENDAR
