BEGIN:VCALENDAR
VERSION:2.0
PRODID:-//ChamberMaster//Event Calendar 2.0//EN
METHOD:PUBLISH
X-PUBLISHED-TTL:P3D
REFRESH-INTERVAL:P3D
CALSCALE:GREGORIAN
BEGIN:VEVENT
DTSTART:20130407T180000Z
DTEND:20130407T200000Z
X-MICROSOFT-CDO-ALLDAYEVENT:FALSE
SUMMARY:Yale Spizzwinks(?)
DESCRIPTION:Yale Spizzwinks(?) Will Mesmerize\n\nAudience at the Westerly Armory\n\n \n\nIt isn't often that 18-22-year-olds get together to sing. Yale's a cappella group\, the Spizzwinks(?) (and yes\, the question mark is part of their name) are undergraduates from Yale University in New Haven\, Connecticut who not only sing together\, but dazzle audiences with the richness of their harmonies\, the quality of their voices\, the precision of their delivery\, and their unpredictable humor.  On Sunday\, April 7 at 2:00 pm\, the 'winks will entertain at the Westerly Armory\, and the audience will be amazed and amused.\n\n \n\nCome meet the young men of Yale University.  And the 'winks will be dressed in white tie and tails   and one of them will wear the famous red high-top sneakers.\n\n \n\nSee and hear more about the 'winks at www.westerlyarmory.org. Contact 401-596-8554 at the Armory for information.  Mailing address is PO Box 614\, Westerly\, RI 02891.  Email is westerlyarmory@aol.com. \n\n \n\nThe event is sponsored by Westerly Armory Restoration\, Inc.\, The Washington Trust Company\, and Thorp & Trainer Insurance.
X-ALT-DESC;FMTTYPE=text/html:<strong><span style="color:black\;"><span style="font-family:copperplate gothic bold\,sans-serif\;"><span style="font-size:20.0pt\;">Yale Spizzwinks(?) Will Mesmerize</span></span></span></strong><br />\n<strong><span style="color:black\;"><span style="font-family:copperplate gothic bold\,sans-serif\;"><span style="font-size:20.0pt\;">Audience at the Westerly Armory</span></span></span></strong><br />\n&nbsp\;<br />\n<span style="color:black\;"><span style="font-family:bookman old style\,serif\;">It isn&rsquo\;t often that 18-22-year-olds get together to sing. Yale&rsquo\;s <em>a cappella</em> group\, the<strong> Spizzwinks(?)</strong> (and yes\, the question mark is part of their name) are undergraduates from Yale University in New Haven\, Connecticut who not only sing together\, but dazzle audiences with the richness of their harmonies\, the quality of their voices\, the precision of their delivery\, and their unpredictable humor.&nbsp\; On Sunday\, April 7 at 2:00 pm\, the &lsquo\;winks will entertain at the Westerly Armory\, and the audience will be amazed and amused.</span></span><br />\n&nbsp\;<br />\n<span style="color:black\;"><span style="font-family:bookman old style\,serif\;">Come meet the young men of Yale University.&nbsp\; And the &lsquo\;winks will be dressed in white tie and tails &ndash\; and one of them will wear the famous red high-top sneakers.</span></span><br />\n&nbsp\;<br />\n<span style="color:black\;"><span style="font-family:bookman old style\,serif\;">See and hear more about the &lsquo\;winks at </span></span><span style="color:black\;"><span style="font-family:tahoma\,sans-serif\;"><span style="font-size:7.0pt\;"><a href="http://www.westerlyarmory.org/" target="_blank"><span style="font-family:bookman old style\,serif\;"><span style="font-size:12.0pt\;">www.westerlyarmory.org</span></span></a></span></span></span><span style="color:black\;"><span style="font-family:bookman old style\,serif\;">. Contact 401-596-8554 at the Armory for information.&nbsp\; Mailing address is PO Box 614\, Westerly\, RI 02891.&nbsp\; Email is </span></span><span style="color:black\;"><span style="font-family:tahoma\,sans-serif\;"><span style="font-size:7.0pt\;"><a href="mailto:westerlyarmory@aol.com"><span style="font-family:bookman old style\,serif\;"><span style="font-size:12.0pt\;">westerlyarmory@aol.com</span></span></a></span></span></span><span style="color:black\;"><span style="font-family:bookman old style\,serif\;">. </span></span><br />\n&nbsp\;<br />\n<span style="color:black\;"><span style="font-family:bookman old style\,serif\;">The event is sponsored by Westerly Armory Restoration\, Inc.\, The Washington Trust Company\, and Thorp &amp\; Trainer Insurance.</span></span>
LOCATION:
UID:e.726.3629
SEQUENCE:3
DTSTAMP:20260422T045729Z
URL:http://public.oceanchamber.org/events/details/yale-spizzwinks-3629
END:VEVENT

END:VCALENDAR
