BEGIN:VCALENDAR
VERSION:2.0
PRODID:-//ChamberMaster//Event Calendar 2.0//EN
METHOD:PUBLISH
X-PUBLISHED-TTL:P3D
REFRESH-INTERVAL:P3D
CALSCALE:GREGORIAN
BEGIN:VEVENT
DTSTART:20130912T210000Z
DTEND:20130912T230000Z
X-MICROSOFT-CDO-ALLDAYEVENT:FALSE
SUMMARY:WTA Wine Tasting
DESCRIPTION:2013 WTA WINE TASTING\n\nThe WTA invites You To the 3rd Annual Night of Wine Tasting and Small Plates\n\nSponsored by OCEAN STATE LIQUORS\, Casa Della Luce\, 84 Tavern On Canal\, The Sea Goose Grill\, and Pete's Famous Pizza\n\nThe Wine Tasting will feature over 40 sensational wines ranging in flavor from French and Italian to Californian and Local. Specialty Beers will also be available for those who would rather some cold suds.\n\nDate: September 12th from 5-7\n\nLocation: Westerly Yacht Club\n\nPrice: $30 per person or $50 per couple\n\nPayment will be accepted upon arrival.\n\nIncluded in the price of admission is Wine\, Beer\, finger foods\, and acoustic music provided by Boatcake featuring WTA's own Pat Cozzolino\n\nAll Proceeds will go to The WTA Scholarship Fund\n\nCome one Come All\, Friends and Family are Welcome!
X-ALT-DESC;FMTTYPE=text/html:2013 WTA WINE TASTING<br />\nThe WTA invites You To the 3rd Annual Night of Wine Tasting and Small Plates<br />\nSponsored by OCEAN STATE LIQUORS\, Casa Della Luce\, 84 Tavern On Canal\, The Sea Goose Grill\, and Pete&rsquo\;s Famous Pizza<br />\nThe Wine Tasting will feature over 40 sensational wines ranging in flavor from French and Italian to Californian and Local. Specialty Beers will also be available for those who would rather some cold suds.<br />\nDate: September 12th from 5-7<br />\nLocation: Westerly Yacht Club<br />\nPrice: $30 per person or $50 per couple<br />\nPayment will be accepted upon arrival.<br />\nIncluded in the price of admission is Wine\, Beer\, finger foods\, and acoustic music provided by Boatcake featuring WTA&rsquo\;s own Pat Cozzolino<br />\nAll Proceeds will go to The WTA Scholarship Fund<br />\nCome one Come All\, Friends and Family are Welcome!
LOCATION:
UID:e.726.3999
SEQUENCE:3
DTSTAMP:20260421T230452Z
URL:http://public.oceanchamber.org/events/details/wta-wine-tasting-3999
END:VEVENT

END:VCALENDAR
