BEGIN:VCALENDAR
VERSION:2.0
PRODID:-//ChamberMaster//Event Calendar 2.0//EN
METHOD:PUBLISH
X-PUBLISHED-TTL:P3D
REFRESH-INTERVAL:P3D
CALSCALE:GREGORIAN
BEGIN:VEVENT
DTSTART:20140217T170000Z
DTEND:20140218T200000Z
X-MICROSOFT-CDO-ALLDAYEVENT:FALSE
SUMMARY:Worms for Dessert?
DESCRIPTION:Monday & Tuesday\, Feb. 17-18\, noon-3 pm\n\nWorms for Dessert?\n\nMake your own creepy\, crawly treats at our dessert station in the Gathering Space. $5/free for Museum members.
X-ALT-DESC;FMTTYPE=text/html:<span style="font-size:16px\;"><strong><span style="font-family:arial narrow\,sans-serif\;">Monday &amp\; Tuesday\, Feb. 17-18\, noon-3 pm</span></strong><br />\n<strong><span style="font-family:arial narrow\,sans-serif\;">Worms for Dessert?</span></strong><br />\n<span style="background:white\;"><span style="font-family:arial narrow\,sans-serif\;">Make your own creepy\, crawly treats at our dessert station in the Gathering Space</span></span><span style="font-family:arial narrow\,sans-serif\;">. $5/free for Museum members.</span></span><br />\n
LOCATION:110 Pequot Trail\, Mashantucket\, CT 06338
UID:e.726.4083
SEQUENCE:3
DTSTAMP:20260421T134108Z
URL:http://public.oceanchamber.org/events/details/worms-for-dessert-4083
END:VEVENT

END:VCALENDAR
