BEGIN:VCALENDAR
VERSION:2.0
PRODID:-//ChamberMaster//Event Calendar 2.0//EN
METHOD:PUBLISH
X-PUBLISHED-TTL:P3D
REFRESH-INTERVAL:P3D
CALSCALE:GREGORIAN
BEGIN:VEVENT
DTSTART:20121214T193000Z
DTEND:20121214T210000Z
X-MICROSOFT-CDO-ALLDAYEVENT:FALSE
SUMMARY:Westerly Town Meeeting
DESCRIPTION:The Town of Westerly will host a Town Hall meeting at the Westerly Public Library on Friday\, December 14 at 2:30 to provide property owners an opportunity to ask questions about rebuilding\, mitigation\, and individual assistance. \n\n \n\n \n\nAmy Grzybowski\n\nDirector of Planning\, Code Enforcement & Grant Administration\n\nTown of Westerly\n\n401-348-2617\n\nagrzybowski@westerly.org
X-ALT-DESC;FMTTYPE=text/html:The Town of Westerly will host a Town Hall meeting at the Westerly Public Library on Friday\, December 14 at 2:30 to provide property owners an opportunity to ask questions about rebuilding\, mitigation\, and individual assistance.&nbsp\;<br />\n&nbsp\;<br />\n&nbsp\;<br />\n<span style="font-family:times new roman\,serif\;">Amy Grzybowski</span><br />\n<span style="font-family:times new roman\,serif\;">Director of Planning\, Code Enforcement &amp\; Grant Administration</span><br />\n<span style="font-family:times new roman\,serif\;">Town of Westerly</span><br />\n<span style="font-family:times new roman\,serif\;">401-348-2617</span><br />\n<span style="font-family:times new roman\,serif\;"><a href="mailto:agrzybowski@westerly.org">agrzybowski@westerly.org</a> </span><br />\n&nbsp\;
LOCATION:
UID:e.726.3163
SEQUENCE:3
DTSTAMP:20260422T112103Z
URL:http://public.oceanchamber.org/events/details/westerly-town-meeeting-3163
END:VEVENT

END:VCALENDAR
