BEGIN:VCALENDAR
VERSION:2.0
PRODID:-//ChamberMaster//Event Calendar 2.0//EN
METHOD:PUBLISH
X-PUBLISHED-TTL:P3D
REFRESH-INTERVAL:P3D
CALSCALE:GREGORIAN
BEGIN:VEVENT
DTSTART:20130623T233000Z
DTEND:20130624T013000Z
X-MICROSOFT-CDO-ALLDAYEVENT:FALSE
SUMMARY:Westerly Land Trust Summer Solstice Full Moon Walk
DESCRIPTION:Tour the camp lodge and participate in a family friendly guided walk on the trails of Wahaneeta Preserve while we await the rise of the largest full moon of the year!  At 8:30 we will return to the camp area for moon viewing and to hear about this special perigee moon.
X-ALT-DESC;FMTTYPE=text/html:Tour the camp lodge and participate in a family friendly guided walk on the trails of Wahaneeta&nbsp\;Preserve while we await the rise of the largest full moon of the year!&nbsp\; At 8:30 we will return to&nbsp\;the camp area for moon viewing and to hear about this special perigee moon.
LOCATION:Wahaneeta Preserve\, Moorhouse Rd.
UID:e.726.3824
SEQUENCE:3
DTSTAMP:20260422T020037Z
URL:http://public.oceanchamber.org/events/details/westerly-land-trust-summer-solstice-full-moon-walk-3824
END:VEVENT

END:VCALENDAR
