BEGIN:VCALENDAR
VERSION:2.0
PRODID:-//ChamberMaster//Event Calendar 2.0//EN
METHOD:PUBLISH
X-PUBLISHED-TTL:P3D
REFRESH-INTERVAL:P3D
CALSCALE:GREGORIAN
BEGIN:VEVENT
DTSTART:20130713T130000Z
DTEND:20130713T143000Z
X-MICROSOFT-CDO-ALLDAYEVENT:FALSE
SUMMARY:Westerly Land Trust Grassland Birds & Butterflies Walk
DESCRIPTION:Summer is here and so are the wildflowers\, birds and butterflies.  Come to Avondale Farm Preserve for a leisurely walk along the grassland borders to observe who is gathering nectar and rearing their young.
X-ALT-DESC;FMTTYPE=text/html:Summer is here and so are the wildflowers\, birds and butterflies.&nbsp\; Come to Avondale Farm&nbsp\;Preserve for a leisurely walk along the grassland borders to observe who is gathering nectar and&nbsp\;rearing their young.
LOCATION:Avondale Farm Preserve\, Kings Way
UID:e.726.3825
SEQUENCE:3
DTSTAMP:20260422T020350Z
URL:http://public.oceanchamber.org/events/details/westerly-land-trust-grassland-birds-butterflies-walk-3825
END:VEVENT

END:VCALENDAR
