BEGIN:VCALENDAR
VERSION:2.0
PRODID:-//ChamberMaster//Event Calendar 2.0//EN
METHOD:PUBLISH
X-PUBLISHED-TTL:P3D
REFRESH-INTERVAL:P3D
CALSCALE:GREGORIAN
BEGIN:VEVENT
DTSTART:20130626T220000Z
DTEND:20130627T010000Z
X-MICROSOFT-CDO-ALLDAYEVENT:FALSE
SUMMARY:Westerly Land Trust Dining Club
DESCRIPTION:Gather your friends and join us for an evening of fabulous food\, wine and live acoustic music by Soul Whiskey while The Twisted Vine donates 10% of your bill to benefit the Westerly Land Trust's land conservation programs. Only a $5 donation at the door for this fun evening that supports a great cause.
X-ALT-DESC;FMTTYPE=text/html:Gather your friends and join us for an evening of fabulous food\, wine and live acoustic music by <em>Soul Whiskey</em> while The Twisted Vine donates 10% of your bill to benefit the Westerly Land Trust&rsquo\;s land conservation programs. Only a $5 donation at the door for this fun evening that supports a great cause.
LOCATION:3 Canal Street.
UID:e.726.3840
SEQUENCE:3
DTSTAMP:20260422T021919Z
URL:http://public.oceanchamber.org/events/details/westerly-land-trust-dining-club-3840
END:VEVENT

END:VCALENDAR
