BEGIN:VCALENDAR
VERSION:2.0
PRODID:-//ChamberMaster//Event Calendar 2.0//EN
METHOD:PUBLISH
X-PUBLISHED-TTL:P3D
REFRESH-INTERVAL:P3D
CALSCALE:GREGORIAN
BEGIN:VEVENT
DTSTART:20121217T120000Z
DTEND:20121217T160000Z
X-MICROSOFT-CDO-ALLDAYEVENT:FALSE
SUMMARY:Westerly Knights of Columbus
DESCRIPTION:MENU: CORNED BEEF HASH OR HAM\,EGGS (ANY STYLE) \,HOMEFRIES\,TOAST OR FRENCH TOAST & SAUSAGE\,FRUIT CUP\,COFFEE\,TEA OR HOT CHOCOLATE     ADULTS $7  CHILDREN  UNDER 10 $3
X-ALT-DESC;FMTTYPE=text/html:MENU: CORNED BEEF HASH OR HAM\,EGGS (ANY STYLE) \,HOMEFRIES\,TOAST OR FRENCH TOAST &amp\; SAUSAGE\,FRUIT CUP\,COFFEE\,TEA OR HOT CHOCOLATE&nbsp\;&nbsp\;&nbsp\;&nbsp\; ADULTS $7&nbsp\; CHILDREN&nbsp\; UNDER 10 $3 
LOCATION:WESTERLY KNIGHTS OF COLUMBUS 33 1/3 HIGH ST BEHIND MICELI'S FURNITURE
UID:e.726.3067
SEQUENCE:3
DTSTAMP:20260422T112523Z
URL:http://public.oceanchamber.org/events/details/westerly-knights-of-columbus-3067
END:VEVENT

END:VCALENDAR
