BEGIN:VCALENDAR
VERSION:2.0
PRODID:-//ChamberMaster//Event Calendar 2.0//EN
METHOD:PUBLISH
X-PUBLISHED-TTL:P3D
REFRESH-INTERVAL:P3D
CALSCALE:GREGORIAN
BEGIN:VEVENT
DTSTART:20130511T140000Z
DTEND:20130511T160000Z
X-MICROSOFT-CDO-ALLDAYEVENT:FALSE
SUMMARY:Walking the 1856 Pequot Reservation
DESCRIPTION:Senior Researcher Dr. Jason Mancini introduces you to the reservation's landscape as you visit Pequot house sites from the late 19th and early 20th centuries. It's a vigorous hike of more than 3 miles\, so wear appropriate shoes and clothing (rain gear if needed)\; bring water\, insect repellent\, and a small snack. Limited to 25\, ages 10 and older. $15/$5 Museum members. Register by May 4: (800) 411-9671 or email seleazer@pequotmuseum.org.
X-ALT-DESC;FMTTYPE=text/html:<span style="color:#333333\;"><span style="font-family:arial\,sans-serif\;"><span style="font-size:10.0pt\;"><span color="#333333" face="Arial\, Helvetica\, sans-serif">Senior Researcher Dr. Jason Mancini introduces you to the reservation&#39\;s landscape as you visit Pequot house sites from the late 19th and early 20th centuries. It&#39\;s a vigorous hike of more than 3 miles\, so wear appropriate shoes and clothing (rain gear if needed)\; bring water\, insect repellent\, and a small snack. Limited to 25\, ages 10 and older. $15/$5 Museum members. Register by May 4: (800) 411-9671 or email <a href="mailto:seleazer@pequotmuseum.org" shape="rect" target="_blank"><span style="color:#333333\;">seleazer@pequotmuseum.org</span></a></span>. </span></span></span>
LOCATION:
UID:e.726.3659
SEQUENCE:3
DTSTAMP:20260422T050014Z
URL:http://public.oceanchamber.org/events/details/walking-the-1856-pequot-reservation-3659
END:VEVENT

END:VCALENDAR
