BEGIN:VCALENDAR
VERSION:2.0
PRODID:-//ChamberMaster//Event Calendar 2.0//EN
METHOD:PUBLISH
X-PUBLISHED-TTL:P3D
REFRESH-INTERVAL:P3D
CALSCALE:GREGORIAN
BEGIN:VEVENT
DTSTART:20130601T130000Z
DTEND:20130601T170000Z
X-MICROSOFT-CDO-ALLDAYEVENT:FALSE
SUMMARY:Upper Wood River Summer Paddle
DESCRIPTION:Explore the beautiful Wood River in its summer finery. We will follow the new Wood Pawcatuck Watershed Association map on this seven-mile paddle beginning in the Arcadia Management Area and ending at Wyoming Pond\, Hope Valley\, RI.
X-ALT-DESC;FMTTYPE=text/html:Explore the beautiful Wood River in its summer finery. We will follow the new Wood Pawcatuck Watershed Association map on this seven-mile paddle beginning in the Arcadia Management Area&nbsp\;and ending at Wyoming Pond\, Hope Valley\, RI. 
LOCATION:Arcadia Management Area-Wyoming Pond
UID:e.726.3153
SEQUENCE:3
DTSTAMP:20260422T015930Z
URL:http://public.oceanchamber.org/events/details/upper-wood-river-summer-paddle-3153
END:VEVENT

END:VCALENDAR
