BEGIN:VCALENDAR
VERSION:2.0
PRODID:-//ChamberMaster//Event Calendar 2.0//EN
METHOD:PUBLISH
X-PUBLISHED-TTL:P3D
REFRESH-INTERVAL:P3D
CALSCALE:GREGORIAN
BEGIN:VEVENT
DTSTART;VALUE=DATE:20131205
DTEND;VALUE=DATE:20131208
TRANSP:TRANSPARENT
X-MICROSOFT-CDO-ALLDAYEVENT:TRUE
SUMMARY:Timeless - A holiday Compilation Musical
DESCRIPTION:Written by Jennifer Algeri\n\nDirected by Jack Cottle\n\nStage Dogs
X-ALT-DESC;FMTTYPE=text/html:Written by Jennifer Algeri<br />\nDirected by Jack Cottle<br />\nStage Dogs<br />\n<br />\n
LOCATION:Westerly High School
UID:e.726.4133
SEQUENCE:3
DTSTAMP:20260421T165841Z
URL:http://public.oceanchamber.org/events/details/timeless-a-holiday-compilation-musical-4133
END:VEVENT

END:VCALENDAR
