BEGIN:VCALENDAR
VERSION:2.0
PRODID:-//ChamberMaster//Event Calendar 2.0//EN
METHOD:PUBLISH
X-PUBLISHED-TTL:P3D
REFRESH-INTERVAL:P3D
CALSCALE:GREGORIAN
BEGIN:VEVENT
DTSTART:20120212T030000Z
DTEND:20120212T050000Z
X-MICROSOFT-CDO-ALLDAYEVENT:FALSE
SUMMARY:This Ain't Your Gramma's Bingo: Mohegan Sun Launches Bingo After Dark
DESCRIPTION:Premieres February 11th with $15\,000 in cash prizes up for grabs\n\n\n\nPull out your good luck charms\, grab some friends and head over to Mohegan Sun on Saturday\, February 11th for the premiere of Bingo After Dark! This new\, late-night bingo tournament features $15\,000 in cash prizes\, a live DJ and more!\n\n\n\nThe event kicks off at 10:00pm and will be held inside Mohegan Sun's Uncas Ballroom. The cost is $20.00 per person and covers eight games\, complimentary non-alcoholic beverages\, entertainment and more. A cash bar will also be available in the ballroom.\n\n\n\nRegistration begins at 8:00pm with doors opening to the Ballroom at 9pm. Prize pools vary from $1\,500 to $3\,000 per game\, with a total of $15\,000 being awarded throughout the night. DJ Ryan Kristafer will be on hand to host the event and to spin tunes between rounds.
X-ALT-DESC;FMTTYPE=text/html:Premieres February 11th with $15\,000 in cash prizes up for grabs<br />\n<br />\nPull out your good luck charms\, grab some friends and head over to Mohegan Sun on Saturday\, February 11th for the premiere of Bingo After Dark! This new\, late-night bingo tournament features $15\,000 in cash prizes\, a live DJ and more!<br />\n<br />\nThe event kicks off at 10:00pm and will be held inside Mohegan Sun&rsquo\;s Uncas Ballroom. The cost is $20.00 per person and covers eight games\, complimentary non-alcoholic beverages\, entertainment and more. A cash bar will also be available in the ballroom.<br />\n<br />\nRegistration begins at 8:00pm with doors opening to the Ballroom at 9pm. Prize pools vary from $1\,500 to $3\,000 per game\, with a total of $15\,000 being awarded throughout the night. DJ Ryan Kristafer will be on hand to host the event and to spin tunes between rounds.
LOCATION:Mohegan Sun
UID:e.726.1947
SEQUENCE:3
DTSTAMP:20260423T021104Z
URL:http://public.oceanchamber.org/events/details/this-ain-t-your-gramma-s-bingo-mohegan-sun-launches-bingo-after-dark-1947
END:VEVENT

END:VCALENDAR
