BEGIN:VCALENDAR
VERSION:2.0
PRODID:-//ChamberMaster//Event Calendar 2.0//EN
METHOD:PUBLISH
X-PUBLISHED-TTL:P3D
REFRESH-INTERVAL:P3D
CALSCALE:GREGORIAN
BEGIN:VEVENT
DTSTART:20130124T230000Z
DTEND:20130125T000000Z
X-MICROSOFT-CDO-ALLDAYEVENT:FALSE
SUMMARY:The Westerly Hospital: A Mastership Update & Discussion
DESCRIPTION:Join us at The Westerly Hospital for a community forum featuring:  Mark Russo\, Special Master\; Steven Hartford\, Westerly Town Manager and Westerly Hospital Area Residents Committee\; and Christopher Lehrach\, MD\, Chief Transformation Officer/Interim Operations for an update on the Mastership and lastest hospital turnaround initiatives.  All are welcome.
X-ALT-DESC;FMTTYPE=text/html:Join us at The Westerly Hospital for a community forum featuring:&nbsp\; Mark Russo\, Special Master\; Steven Hartford\, Westerly Town Manager and Westerly Hospital Area Residents Committee\; and Christopher Lehrach\, MD\, Chief Transformation Officer/Interim Operations for an update on the Mastership and lastest hospital turnaround initiatives.&nbsp\; All are welcome.
LOCATION:The Westerly Hospital\, Nardone Conference Center
UID:e.726.3191
SEQUENCE:3
DTSTAMP:20260422T094805Z
URL:http://public.oceanchamber.org/events/details/the-westerly-hospital-a-mastership-update-discussion-3191
END:VEVENT

END:VCALENDAR
