BEGIN:VCALENDAR
VERSION:2.0
PRODID:-//ChamberMaster//Event Calendar 2.0//EN
METHOD:PUBLISH
X-PUBLISHED-TTL:P3D
REFRESH-INTERVAL:P3D
CALSCALE:GREGORIAN
BEGIN:VEVENT
DTSTART;VALUE=DATE:20130125
DTEND;VALUE=DATE:20130128
TRANSP:TRANSPARENT
X-MICROSOFT-CDO-ALLDAYEVENT:TRUE
SUMMARY:Sun WineFest 2013 Tickets On Sale Now
DESCRIPTION:Mohegan Sun is excited to celebrate its 10th annual Sun WineFest on January 25\, 26 & 27\, 2013. Throughout the weekend\, featured events will include the Sun WineFest Grand Tasting\, Bourbon Tasting\, Elite Cru Tasting\, Celebrity Chef Dine Around and Bubbles & Bon Bons.\n\n\n\nTickets are on sale now for all events through Ticketmaster\, the Mohegan Sun Box Office and sunwinefest.com.
X-ALT-DESC;FMTTYPE=text/html:Mohegan Sun is excited to celebrate its 10th annual Sun WineFest on January 25\, 26 &amp\; 27\, 2013. Throughout the weekend\, featured events will include the Sun WineFest Grand Tasting\, Bourbon Tasting\, Elite Cru Tasting\, Celebrity Chef Dine Around and Bubbles &amp\; Bon Bons.<br />\n<br />\nTickets are on sale now for all events through Ticketmaster\, the Mohegan Sun Box Office and sunwinefest.com.
LOCATION:Mohegan Sun\, Uncasville\, CT
UID:e.726.2981
SEQUENCE:3
DTSTAMP:20260422T100750Z
URL:http://public.oceanchamber.org/events/details/sun-winefest-2013-tickets-on-sale-now-2981
END:VEVENT

END:VCALENDAR
