BEGIN:VCALENDAR
VERSION:2.0
PRODID:-//ChamberMaster//Event Calendar 2.0//EN
METHOD:PUBLISH
X-PUBLISHED-TTL:P3D
REFRESH-INTERVAL:P3D
CALSCALE:GREGORIAN
BEGIN:VEVENT
DTSTART:20130629T213000Z
DTEND:20130630T003000Z
X-MICROSOFT-CDO-ALLDAYEVENT:FALSE
SUMMARY:Summer Nature Night Out at DPNC
DESCRIPTION:A special summer program for just for kids. Spend the evening outdoors. We'll learn what the animals are up to in the summertime and have a pizza\, a campfire and s'mores.\n\nMEMBERS PER CHILD: $25.\n\nMEMBERS ADDT'L SIBLING: $5.\n\nNON-MEMBERS PER CHILD: $30.\n\nNON-MEMBERS ADDT'L SIBLING: $7.\n\nFOR AGES 6 TO 12 YEARS\n\nPlease contact the Denison Pequotsepos Nature Center at 860.536.1216 for reservations.
X-ALT-DESC;FMTTYPE=text/html:<span style="font-size:11.0pt\;">A special summer program for just for kids. Spend the evening outdoors. We&rsquo\;ll learn what the animals are up to in the summertime and have a pizza\, a campfire and s&rsquo\;mores.</span><br />\n<span style="font-size:11.0pt\;">MEMBERS PER CHILD: $25.</span><br />\n<span style="font-size:11.0pt\;">MEMBERS ADDT&rsquo\;L SIBLING: $5.</span><br />\n<span style="font-size:11.0pt\;">NON-MEMBERS PER CHILD: $30.</span><br />\n<span style="font-size:11.0pt\;">NON-MEMBERS ADDT&rsquo\;L SIBLING: $7.</span><br />\n<span style="font-size:11.0pt\;">FOR AGES 6 TO 12 YEARS</span><br />\n<span style="font-size:11.0pt\;">Please contact the Denison Pequotsepos Nature Center at 860.536.1216 for reservations.</span>
LOCATION:
UID:e.726.3882
SEQUENCE:3
DTSTAMP:20260422T020650Z
URL:http://public.oceanchamber.org/events/details/summer-nature-night-out-at-dpnc-3882
END:VEVENT

END:VCALENDAR
