BEGIN:VCALENDAR
VERSION:2.0
PRODID:-//ChamberMaster//Event Calendar 2.0//EN
METHOD:PUBLISH
X-PUBLISHED-TTL:P3D
REFRESH-INTERVAL:P3D
CALSCALE:GREGORIAN
BEGIN:VEVENT
DTSTART:20130429T220000Z
DTEND:20130430T010000Z
X-MICROSOFT-CDO-ALLDAYEVENT:FALSE
SUMMARY:Shoreline Roller Derby Fundraiser
DESCRIPTION:Come on down to Mel's Downtown Creamery from 6pm-9pm on May 8th to support the Shoreline Roller Derby.  20% of all sales during this time will be donated directly to the team to help with equipment costs\, travel expenses\, and other game related costs.  Simply stop on down for a sweet treat to support the Shoreline Roller Derby.  You may even see a derby girl rolling your order directly to you! Mark your calendars\; this is sure to be a fun night.
X-ALT-DESC;FMTTYPE=text/html:Come on down to Mel&#39\;s Downtown Creamery from 6pm-9pm on May 8th to support the Shoreline Roller Derby. &nbsp\;20% of all sales during this time will be donated directly to the team to help with equipment costs\, travel expenses\, and other game related costs. &nbsp\;Simply stop on down for a sweet treat to support the Shoreline Roller Derby. &nbsp\;You may even see a derby girl rolling your order directly to you! Mark your calendars\; this is sure to be a fun night. &nbsp\;&nbsp\;
LOCATION:Mel's Downtown Creamery 37 West Broad St Pawcatuck\, CT 06379
UID:e.726.3637
SEQUENCE:3
DTSTAMP:20260422T045729Z
URL:http://public.oceanchamber.org/events/details/shoreline-roller-derby-fundraiser-3637
END:VEVENT

END:VCALENDAR
