BEGIN:VCALENDAR
VERSION:2.0
PRODID:-//ChamberMaster//Event Calendar 2.0//EN
METHOD:PUBLISH
X-PUBLISHED-TTL:P3D
REFRESH-INTERVAL:P3D
CALSCALE:GREGORIAN
BEGIN:VEVENT
DTSTART:20121111T180000Z
DTEND:20121111T200000Z
X-MICROSOFT-CDO-ALLDAYEVENT:FALSE
SUMMARY:Setting the Pace for Conservation - Westerly Land Trust Avondale 5K
DESCRIPTION:The Westerly Land Trust's 5K fundraiser features a beautiful course located within Avondale Farm Preserve and on the surrounding scenic roadways. Proceeds from 'Setting the Pace for Conservation' will support WLT's land conservation programs that currently protect and manage 1\,500 acres of preserved lands. Bring your running shoes and your family for a great afternoon out.\n\n\n\nEntrants may register online at www.westerlylandtrust.org or by mailing your registration form and entry fee to The Westerly Land Trust\, P.O. Box 601\, Westerly\, RI 02891. Checks made payable to the Westerly Land Trust.  Pre-registration fee is $20\; registration fee is $25 after 11/3.
X-ALT-DESC;FMTTYPE=text/html:The Westerly Land Trust&#39\;s&nbsp\;5K fundraiser features a beautiful course located within Avondale Farm Preserve and on the surrounding scenic roadways. Proceeds from &lsquo\;Setting the Pace for Conservation&rsquo\; will support&nbsp\;WLT&#39\;s land conservation programs that currently protect and manage 1\,500 acres of preserved lands. Bring your running shoes and your family for a great afternoon out.<br />\n<br />\nEntrants may register online at www.westerlylandtrust.org or by mailing your registration form and entry fee to The Westerly Land Trust\, P.O. Box 601\, Westerly\, RI 02891. Checks made payable to the Westerly Land Trust.&nbsp\; Pre-registration fee is $20\; registration fee is $25 after 11/3.<br />\n
LOCATION:Avondale Farm Preserve (Quail Run entrance)
UID:e.726.3003
SEQUENCE:3
DTSTAMP:20260422T124742Z
URL:http://public.oceanchamber.org/events/details/setting-the-pace-for-conservation-westerly-land-trust-avondale-5k-3003
END:VEVENT

END:VCALENDAR
