BEGIN:VCALENDAR
VERSION:2.0
PRODID:-//ChamberMaster//Event Calendar 2.0//EN
METHOD:PUBLISH
X-PUBLISHED-TTL:P3D
REFRESH-INTERVAL:P3D
CALSCALE:GREGORIAN
BEGIN:VEVENT
DTSTART:20130618T170000Z
DTEND:20130618T170000Z
X-MICROSOFT-CDO-ALLDAYEVENT:FALSE
SUMMARY:Sea Research Foundations Club Classic
DESCRIPTION:Join us for 18 holes of golf at the private and exclusive Misquamicut Club in Watch Hill\, R.I.\, during Sea Research Foundation's 2nd Annual Golf Classic on June 18\, 2013. The Misquamicut Club course features 6\,214 yards of golf from the longest tees for a par of 69. Designed by Donald J. Ross\, ASGCA\, the historic Misquamicut golf course opened in 1895. The event supports Mystic Aquarium's marine life\, ocean conservation efforts and educational programming that reach thousands of children each year.
X-ALT-DESC;FMTTYPE=text/html:Join us for 18 holes of golf at the private and exclusive Misquamicut Club in Watch Hill\, R.I.\, during Sea Research Foundation&rsquo\;s 2nd Annual Golf Classic on June 18\, 2013. The Misquamicut Club course features 6\,214 yards of golf from the longest tees for a par of 69. Designed by Donald J. Ross\, ASGCA\, the historic Misquamicut golf course opened in 1895. The event supports Mystic Aquarium&rsquo\;s marine life\, ocean conservation efforts and educational programming that reach thousands of children each year.
LOCATION:Misquamicut Club Watch Hill RI
UID:e.726.3569
SEQUENCE:3
DTSTAMP:20260422T022102Z
URL:http://public.oceanchamber.org/events/details/sea-research-foundations-club-classic-3569
END:VEVENT

END:VCALENDAR
