BEGIN:VCALENDAR
VERSION:2.0
PRODID:-//ChamberMaster//Event Calendar 2.0//EN
METHOD:PUBLISH
X-PUBLISHED-TTL:P3D
REFRESH-INTERVAL:P3D
CALSCALE:GREGORIAN
BEGIN:VEVENT
DTSTART:20131204T200000Z
DTEND:20131205T020000Z
X-MICROSOFT-CDO-ALLDAYEVENT:FALSE
SUMMARY:Santa Claus and Local Shopping is Coming to Mel's Downtown Creamery
DESCRIPTION:Downtown is the place to be this December 4th. The Annual Holiday Stroll will be taking place along with our 2nd Annual Local Holiday Shopping Event! Please join Mel's Downtown Creamery\, Community Ayurvedic Herbalist\, and Ink & Paint Art & Tattoo Studio for a night of holiday fun! Write letters to Santa\, make holiday crafts\, enjoy hot chocolate and cookies\, and maybe even get to see Santa himself! Santa will be making his list and checking it twice from 3pm to 4:30pm. Bring your kids down and get their pictures with the jolly old soul. While your kids have a blast get some of your holiday shopping done with great gift packages available and gift cards! Bring in a nonperishable food item and automatically be entered to win great raffle prizes. Keep the prize for yourself or use it as a Christmas gift! It's completely up to you! All nonperishable food items will be divided between our two local food banks\; The Johnny Cake Center and The Pawcatuck Neighborhood Center.
X-ALT-DESC;FMTTYPE=text/html:<div>\n	<table cellpadding="0" cellspacing="0" class="uiGrid _51mz mvm" style="margin-top: 10px\; margin-bottom: 10px\; border: 0px\; border-collapse: collapse\; border-spacing: 0px\; color: rgb(51\, 51\, 51)\; font-family: 'lucida grande'\, tahoma\, verdana\, arial\, sans-serif\; font-size: 11px\; line-height: 14px\;">\n		<tbody>\n			<tr class="_51mx">\n				<td class="_51m- vTop _51mw" style="vertical-align: top\; padding-right: 0px\; padding-top: 0px\; padding-bottom: 0px\;">\n					<div class="text_exposed_root text_exposed" id="id_5286c24ff2d1c7e48716361" style="display: inline\;">\n						<span itemprop="description"><span class="fsl" style="font-size: 13px\;">Downtown is the place to be this December 4th. The Annual Holiday Stroll will be taking place along with our 2nd Annual Local Holiday Shopping Event! Please join&nbsp\;<a data-hovercard="/ajax/hovercard/page.php?id=299253050131186&amp\;extragetparams=%7B%22directed_target_id%22%3A0%7D" href="https://www.facebook.com/MelsDowntownCreamery?directed_target_id=0" style="color: rgb(59\, 89\, 152)\; cursor: pointer\; text-decoration: none\;">Mel&#39\;s Downtown Creamery</a>\,&nbsp\;<a data-hovercard="/ajax/hovercard/page.php?id=231899553487395&amp\;extragetparams=%7B%22directed_target_id%22%3A0%7D" href="https://www.facebook.com/Ayurveda.Community?directed_target_id=0" style="color: rgb(59\, 89\, 152)\; cursor: pointer\; text-decoration: none\;">Community Ayurvedic Herbalist</a>\, and&nbsp\;<a data-hovercard="/ajax/hovercard/page.php?id=132742186900675&amp\;extragetparams=%7B%22directed_target_id%22%3A0%7D" href="https://www.facebook.com/pages/Ink-Paint-Art-Tattoo-Studio/132742186900675?directed_target_id=0" style="color: rgb(59\, 89\, 152)\; cursor: pointer\; text-decoration: none\;">Ink &amp\; Paint Art &amp\; Tattoo Studio</a>&nbsp\;for a night of holiday fun! Write letters to Santa\, make holiday crafts\, enjoy hot chocolate and cookies\, and maybe even get to see Santa himself! Santa will be making his list and checking it twice from 3pm to 4:30pm. Bring your kids down and get their p<span class="text_exposed_show" style="display: inline\;">ictures with the jolly old soul. While your kids have a blast get some of your holiday shopping done with great gift packages available and gift cards! Bring in a nonperishable food item and automatically be entered to win great raffle prizes. Keep the prize for yourself or use it as a Christmas gift! It&#39\;s completely up to you! All nonperishable food items will be divided between our two local food banks\; The Johnny Cake Center and The Pawcatuck Neighborhood Center.</span></span></span></div>\n				</td>\n			</tr>\n		</tbody>\n	</table>\n</div>\n<br />\n
LOCATION:37 West Broad St. Pawcatuck\, CT 06379
UID:e.726.4093
SEQUENCE:3
DTSTAMP:20260421T182327Z
URL:http://public.oceanchamber.org/events/details/santa-claus-and-local-shopping-is-coming-to-mel-s-downtown-creamery-4093
END:VEVENT

END:VCALENDAR
