BEGIN:VCALENDAR
VERSION:2.0
PRODID:-//ChamberMaster//Event Calendar 2.0//EN
METHOD:PUBLISH
X-PUBLISHED-TTL:P3D
REFRESH-INTERVAL:P3D
CALSCALE:GREGORIAN
BEGIN:VEVENT
DTSTART:20130727T133000Z
DTEND:20130727T190000Z
X-MICROSOFT-CDO-ALLDAYEVENT:FALSE
SUMMARY:Richmond Landing to Bradford on the Pawcatuck River
DESCRIPTION:This downstream trip is approximately 9-miles. There is a low rubble dam at Burdickville that can be run or avoided. The lowest section above the Bradford Dam is quiet water paddling along scenic forested banks. This is a one-way trip with a return shuttle. Led by Al Brown.\n\n\n\nPlease contact the Denison Pequotsepos Nature Center at 860.536.1216 for reservations and directions as needed.
X-ALT-DESC;FMTTYPE=text/html:<span style="font-size:11.0pt\;">This downstream trip is approximately 9-miles. There is a low rubble dam at Burdickville that can be run or avoided. The lowest section above the Bradford Dam is quiet water paddling along scenic forested banks. This is a one-way trip with a return shuttle. Led by Al Brown.</span><br />\n<br />\n<span style="font-size:11.0pt\;">Please contact the Denison Pequotsepos Nature Center at 860.536.1216 for reservations and directions as needed.</span><br />\n&nbsp\;
LOCATION:
UID:e.726.3858
SEQUENCE:3
DTSTAMP:20260422T003936Z
URL:http://public.oceanchamber.org/events/details/richmond-landing-to-bradford-on-the-pawcatuck-river-3858
END:VEVENT

END:VCALENDAR
