BEGIN:VCALENDAR
VERSION:2.0
PRODID:-//ChamberMaster//Event Calendar 2.0//EN
METHOD:PUBLISH
X-PUBLISHED-TTL:P3D
REFRESH-INTERVAL:P3D
CALSCALE:GREGORIAN
BEGIN:VEVENT
DTSTART:20130418T140000Z
DTEND:20130418T180000Z
X-MICROSOFT-CDO-ALLDAYEVENT:FALSE
SUMMARY:Organ and Tissue Donor Drive
DESCRIPTION:In recognition of National Donate Life Month\, The Westerly Hospital will host an Organ and Tissue Drive on April 18 from 10:00 a.m. until 2:00 p.m. in the Hospital's Main Lobby. A representative from the New England Organ Bank will be onsite to provide informatin about organ and tissue donation and assist participants in registering as an organ and tissue donor.  Last year alone\, organ donors saved more than 28\,000 lives!  Another one million people received tissue transplants that helped them recover from skin loss\, bone damage\, spinal injuries\, burns\, hearing impairment and vision loss.  Please consider becoming an organ/tissue donor.  You can also register online at www.donatelifenewengland.org.
X-ALT-DESC;FMTTYPE=text/html:In recognition of National Donate Life Month\, The Westerly Hospital will host an Organ and Tissue Drive on April 18 from 10:00 a.m. until 2:00 p.m. in the Hospital&rsquo\;s Main Lobby. A representative from the New England Organ Bank will be onsite to provide informatin about organ and tissue donation and assist participants in registering as an organ and tissue donor.&nbsp\; Last year alone\, organ donors saved more than 28\,000 lives!&nbsp\; Another one million people received tissue transplants that helped them recover from skin loss\, bone damage\, spinal injuries\, burns\, hearing impairment and vision loss.&nbsp\; Please consider becoming an organ/tissue donor.&nbsp\; You can also register online at www.donatelifenewengland.org.<br />\n
LOCATION:The Westerly Hospital\, 25 Wells Street\, Westerly\, RI
UID:e.726.3628
SEQUENCE:3
DTSTAMP:20260422T063502Z
URL:http://public.oceanchamber.org/events/details/organ-and-tissue-donor-drive-3628
END:VEVENT

END:VCALENDAR
