BEGIN:VCALENDAR
VERSION:2.0
PRODID:-//ChamberMaster//Event Calendar 2.0//EN
METHOD:PUBLISH
X-PUBLISHED-TTL:P3D
REFRESH-INTERVAL:P3D
CALSCALE:GREGORIAN
BEGIN:VEVENT
DTSTART:20130123T223000Z
DTEND:20130124T003000Z
X-MICROSOFT-CDO-ALLDAYEVENT:FALSE
SUMMARY:Open House
DESCRIPTION:OPEN HOUSE\n\n				Free Networking Event\n\n				 \n\n				January 23\, 2013 5:30   7:30pm\n\n				\n\n				 \n\n				Bring Friends          Invite Colleagues\n\n				 \n\n				Great Raffle Prizes! Great Friends! Great Time!\n\n				 \n\n				Hosted by\n\n				South County Hospital\n\n				The Medical & Wellness Center\n\n				3461 South County Trail\n\n				At North Kingstown/East Greenwich line\n\n				(Between Allie's Donuts\, Tarbox Toyota & Richards Pub)\n\n				\n\n				3rd Floor\n\n				Dr. Derek Andelloux\,      Dr. Laura Henseler\,      Dr. Karen Smigel\n\n				 \n\n				   Also featured:\n\n				Dr. Richard DelSesto-Internal Medicine\, \n\n				Dr. Eleni Pappas-Podiatry\n\n				Brain & Spine NeuroSurgery\,       \n\n				Elite Physical Therapy\,      \n\n				South County Orthopedics\n\n				 \n\n				Refreshments from Pinelli's & Savory Grape!\n\n				 \n\n				Guest Photo Artist   Josh Edenbaum\n\n				 \n\n				 \n\n				Lori Delfosse Ldelfosse@SCHospital.com    (401)932-9342
X-ALT-DESC;FMTTYPE=text/html:&nbsp\;<br />\n<table align="center" border="1" cellpadding="0" cellspacing="0" style="border-collapse:collapse\;border:none\;">\n	<tbody>\n		<tr>\n			<td style="width:683px\;border:double #003366 13.5pt\;padding:0in 5.4pt 0in 5.4pt\;vertical-align:top\;">\n				&nbsp\;<br />\n				<span style="font-size:24px\;"><strong><span style="font-family: century gothic\,sans-serif\;">OPEN HOUSE<br />\n				</span></strong></span><span style="font-family:century gothic\,sans-serif\;"><span style="font-size:16.0pt\;">Free Networking Event</span></span><br />\n				&nbsp\;<br />\n				<strong><span style="font-family:century gothic\,sans-serif\;"><span style="font-size:16.0pt\;">January 23\, 2013 5:30 &ndash\; 7:30pm</span></span></strong><br />\n				<br />\n				&nbsp\;<br />\n				<strong><span style="font-family:century gothic\,sans-serif\;"><span style="font-size:16.0pt\;">Bring Friends&nbsp\; &nbsp\;&nbsp\;</span></span></strong><strong><span style="font-family:century gothic\,sans-serif\;"><span style="font-size:16.0pt\;">&nbsp\;&nbsp\;&nbsp\;&nbsp\;&nbsp\; Invite Colleagues</span></span></strong><br />\n				&nbsp\;<br />\n				<span style="font-family:century gothic\,sans-serif\;"><span style="font-size:20.0pt\;">Great Raffle Prizes! Great Friends! Great Time!</span></span><br />\n				&nbsp\;<br />\n				<span style="font-family:century gothic\,sans-serif\;"><span style="font-size:14.0pt\;">Hosted by</span></span><br />\n				<strong><span style="font-family:century gothic\,sans-serif\;"><span style="font-size:18.0pt\;">South County Hospital<br />\n				The Medical &amp\; Wellness Center</span></span></strong><br />\n				<span style="font-family:century gothic\,sans-serif\;">3461 South County Trail</span><br />\n				<span style="font-family:century gothic\,sans-serif\;">At North Kingstown/East Greenwich line</span><br />\n				<span style="font-family:century gothic\,sans-serif\;">(Between Allie&rsquo\;s Donuts\, Tarbox Toyota &amp\; Richards Pub)</span><br />\n				<br />\n				<span style="font-family:century gothic\,sans-serif\;">3<sup>rd</sup> Floor</span><br />\n				<span style="font-family:century gothic\,sans-serif\;"><span style="font-size:14.0pt\;">Dr. Derek Andelloux\, &nbsp\;&nbsp\;&nbsp\;&nbsp\;&nbsp\;Dr. Laura Henseler\, &nbsp\;&nbsp\;&nbsp\;&nbsp\;&nbsp\;Dr. Karen Smigel</span></span><br />\n				&nbsp\;<br />\n				<span style="font-family:century gothic\,sans-serif\;"><span style="font-size:10.0pt\;">&nbsp\;&nbsp\; Also featured:</span></span><br />\n				<span style="font-size:14px\;"><span style="font-family: century gothic\,sans-serif\;">Dr. Richard DelSesto-Internal Medicine\,&nbsp\;<br />\n				Dr. Eleni Pappas-Podiatry</span></span><br />\n				<span style="font-family:century gothic\,sans-serif\;"><span style="font-size:14.0pt\;"><span style="font-size:14px\;">Brain &amp\; Spine NeuroSurgery\, &nbsp\;&nbsp\;&nbsp\;&nbsp\;&nbsp\;&nbsp\;<br />\n				Elite Physical Therapy\, &nbsp\;&nbsp\;&nbsp\;&nbsp\;&nbsp\;<br />\n				<span style="font-size:12px\;">South County Orth</span></span><span style="font-size:12px\;">opedics</span></span></span><br />\n				&nbsp\;<br />\n				<span style="font-family:century gothic\,sans-serif\;"><span style="font-size:14.0pt\;">Refreshments from Pinelli&rsquo\;s &amp\; Savory Grape!</span></span><br />\n				&nbsp\;<br />\n				<span style="font-family:century gothic\,sans-serif\;"><span style="font-size:13.0pt\;">Guest Photo Artist &ndash\; Josh Edenbaum</span></span><br />\n				&nbsp\;<br />\n				&nbsp\;<br />\n				<span style="font-family:century gothic\,sans-serif\;"><span style="font-size:9.0pt\;">Lori Delfosse <a href="mailto:Ldelfosse@SCHospital.com">Ldelfosse@SCHospital.com</a>&nbsp\;&nbsp\;&nbsp\; (401)932-9342</span></span></td>\n		</tr>\n	</tbody>\n</table>\n<div style="clear:both\;">\n	&nbsp\;</div>\n&nbsp\;
LOCATION:
UID:e.726.3204
SEQUENCE:3
DTSTAMP:20260422T094554Z
URL:http://public.oceanchamber.org/events/details/open-house-3204
END:VEVENT

END:VCALENDAR
