BEGIN:VCALENDAR
VERSION:2.0
PRODID:-//ChamberMaster//Event Calendar 2.0//EN
METHOD:PUBLISH
X-PUBLISHED-TTL:P3D
REFRESH-INTERVAL:P3D
CALSCALE:GREGORIAN
BEGIN:VEVENT
DTSTART:20130309T180000Z
DTEND:20130309T200000Z
X-MICROSOFT-CDO-ALLDAYEVENT:FALSE
SUMMARY:Open House & 3 Year Anniversary at Precision Fitness
DESCRIPTION:OPEN HOUSE and 3 Year Anniversary Celebration at the NEW FACILITY: Come and celebrate with us March 9th!  Food\, drink\, free exercise classes and more! 1-3 pm\n\n\n\nObstacle Course Training Seminar: Learn what to expect\, how to train and practice some obstacles!  March 9th\, 10-noon!  Then stick around for the Ribbon Cutting at 1 pm!\n\n\n\nTel: (401) 489-0551\n\nCell Phone: (860) 287-3768\n\nEmail: tcambio@GoPrecisionFitness.com\n\n \n\nPrecision Fitness of Pawcatuck\, CT announces move to new location\n\nIn celebration of its 3 year anniversary in downtown Westerly/Pawcatuck\, Precision Fitness is pleased to announce its move to a larger facility in the lower level of 39 High Street\, Westerly\, RI. \n\n \n\nOwner and Strength and Conditioning Specialist\, Todd Cambio\, expects the business to be in its new location beginning in March.  The larger space allows for all of their training methods to be held in doors\, year round\, including tire flips\, sledge hammers\, sled drags and obstacle course training.  The space\, which is almost double the size of their current facility\, will also allow them to offer more amenities to their clients such as locker rooms and showers. An additional massage therapist will be on site as well as more equipment to allow for sports team training. Another unique feature of the new location is the addition of an indoor turf area for more running\, speed\, agility and direction drills.\n\n \n\nTo celebrate the move\, Precision Fitness is hosting an Open House and Ribbon Cutting Ceremony to be held on Saturday\, March 9th at 1:00 pm. The public is invited to tour the facility\, enjoy some light refreshments and meet their certified professionals. Precision Fitness specializes in sports performance and obstacle course training but also offers boot camps\, personal training and corrective exercise and functional movement. More information on the services provided can be found on their website at GoPrecisionFitness.com
X-ALT-DESC;FMTTYPE=text/html:<strong><span style="color:#111111\;"><span style="font-family:arial\,sans-serif\;">OPEN HOUSE and 3 Year Anniversary Celebration at the NEW FACILITY:&nbsp\;</span></span></strong><strong><span style="font-weight:normal\;"><span style="color:black\;"><span style="font-family:arial\,sans-serif\;">Come and celebrate with us </span></span></span></strong><strong><span style="color:black\;"><span style="font-family:arial\,sans-serif\;">March 9th</span></span></strong><strong><span style="font-weight:normal\;"><span style="color:black\;"><span style="font-family:arial\,sans-serif\;">! &nbsp\;Food\, drink\, free exercise classes and more! 1-3 pm</span></span></span></strong><br />\n<br />\n<strong><span style="color:#111111\;"><span style="font-family:arial\,sans-serif\;">Obstacle Course Training Seminar</span></span></strong><span style="color:#111111\;"><span style="font-family:arial\,sans-serif\;">: Learn what to expect\, how to train and practice some obstacles! &nbsp\;<strong><span style="font-family:arial\,sans-serif\;">March 9th</span></strong></span>\, 10-noon! &nbsp\;Then stick around for the Ribbon Cutting at 1 pm!</span><br />\n<br />\n<span style="font-family:times new roman\,serif\;">Tel: (<a href="tel:14014890551">401) 489-0551</a></span><br />\n<span style="font-family:times new roman\,serif\;">Cell Phone: (860) 287-3768</span><br />\n<span style="font-family:times new roman\,serif\;">Email: <a href="mailto:tcambio@GoPrecisionFitness.com">tcambio@GoPrecisionFitness.com</a></span><br />\n&nbsp\;<br />\n<strong><span style="font-family:cambria\,serif\;"><span style="font-size:11.0pt\;">Precision Fitness of Pawcatuck\, CT announces move to new location</span></span></strong><br />\n<span style="font-family:cambria\,serif\;"><span style="font-size:11.0pt\;">In celebration of its 3 year anniversary in downtown Westerly/Pawcatuck\, Precision Fitness is pleased to announce its move to a larger facility in the lower level of 39 High Street\, Westerly\, RI. </span></span><br />\n&nbsp\;<br />\n<span style="font-family:cambria\,serif\;"><span style="font-size:11.0pt\;">Owner and Strength and Conditioning Specialist\, Todd Cambio\, expects the business to be in its new location beginning in March.&nbsp\; The larger space allows for all of their training methods to be held in doors\, year round\, including tire flips\, sledge hammers\, sled drags and obstacle course training. &nbsp\;The space\, which is almost double the size of their current facility\, will also allow them to offer more amenities to their clients such as locker rooms and showers. An additional massage therapist will be on site as well as more equipment to allow for sports team training. Another unique feature of the new location is the addition of an indoor turf area for more running\, speed\, agility and direction drills.</span></span><br />\n&nbsp\;<br />\n<span style="font-family:cambria\,serif\;"><span style="font-size:11.0pt\;">To celebrate the move\, Precision Fitness is hosting an Open House and Ribbon Cutting Ceremony to be held on Saturday\, March 9<sup>th</sup> at 1:00 pm. The public is invited to tour the facility\, enjoy some light refreshments and meet their certified professionals. Precision Fitness specializes in sports performance and obstacle course training but also offers boot camps\, personal training and corrective exercise and functional movement. More information on the services provided can be found on their website at GoPrecisionFitness.com</span></span>
LOCATION:Precision Fitness 39 High Street Westerly\, RI 02891
UID:e.726.3246
SEQUENCE:3
DTSTAMP:20260422T064325Z
URL:http://public.oceanchamber.org/events/details/open-house-3-year-anniversary-at-precision-fitness-3246
END:VEVENT

END:VCALENDAR
