BEGIN:VCALENDAR
VERSION:2.0
PRODID:-//ChamberMaster//Event Calendar 2.0//EN
METHOD:PUBLISH
X-PUBLISHED-TTL:P3D
REFRESH-INTERVAL:P3D
CALSCALE:GREGORIAN
BEGIN:VEVENT
DTSTART:20131222T150000Z
DTEND:20131222T150000Z
X-MICROSOFT-CDO-ALLDAYEVENT:FALSE
SUMMARY:Mystic Seaport Community Carol Sing
DESCRIPTION:The Museum will be open to visitors and admission is free with the donation of a canned good item. All contributions will be donated to and distributed by the Pawcatuck Neighborhood Center.
X-ALT-DESC;FMTTYPE=text/html:The Museum will be open to visitors and admission is free with the donation of a canned good item. All contributions will be donated to and distributed by the Pawcatuck Neighborhood Center.<br />\n<br />\n
LOCATION:Mystic Seaport
UID:e.726.3567
SEQUENCE:3
DTSTAMP:20260421T170019Z
URL:http://public.oceanchamber.org/events/details/mystic-seaport-community-carol-sing-3567
END:VEVENT

END:VCALENDAR
