BEGIN:VCALENDAR
VERSION:2.0
PRODID:-//ChamberMaster//Event Calendar 2.0//EN
METHOD:PUBLISH
X-PUBLISHED-TTL:P3D
REFRESH-INTERVAL:P3D
CALSCALE:GREGORIAN
BEGIN:VEVENT
DTSTART:20121216T150000Z
DTEND:20121216T200000Z
X-MICROSOFT-CDO-ALLDAYEVENT:FALSE
SUMMARY:Mystic Seaport Community Carol Sing
DESCRIPTION:The Museum will be open to visitors from 10 a.m. to 4 p.m. and admission is free with the donation of a canned good item. All contributions will be donated to and distributed by the Pawcatuck Neighborhood Center.\n\n\n\nThe Mystic Seaport Carolers will perform a holiday concert in the Greenmanville Church at 2 p.m. The Carol Sing will commence in Anchor Circle at 3 p.m.
X-ALT-DESC;FMTTYPE=text/html:The Museum will be open to visitors from 10 a.m. to 4 p.m. and admission is free with the donation of a canned good item. All contributions will be donated to and distributed by the Pawcatuck Neighborhood Center.<br />\n<br />\nThe Mystic Seaport Carolers will perform a holiday concert in the Greenmanville Church at 2 p.m. The Carol Sing will commence in Anchor Circle at 3 p.m.<br />\n
LOCATION:Mystic Seaport
UID:e.726.1604
SEQUENCE:3
DTSTAMP:20260422T112516Z
URL:http://public.oceanchamber.org/events/details/mystic-seaport-community-carol-sing-1604
END:VEVENT

END:VCALENDAR
