BEGIN:VCALENDAR
VERSION:2.0
PRODID:-//ChamberMaster//Event Calendar 2.0//EN
METHOD:PUBLISH
X-PUBLISHED-TTL:P3D
REFRESH-INTERVAL:P3D
CALSCALE:GREGORIAN
BEGIN:VEVENT
DTSTART:20120201T223000Z
DTEND:20120202T003000Z
X-MICROSOFT-CDO-ALLDAYEVENT:FALSE
SUMMARY:Mark Kurlansky at Mystic Seaport
DESCRIPTION:Scientists say that the number of large fish in the ocean has decreased by 90% over the past 50 years. Could they be gone in the next 50 years? Mark Kurlansky\, the author of the New York Times bestseller Cod\, and his 10-year-old daughter and fishing companion Talia\, talk about the prolific author's latest book\, World Without Fish. As the father of a young daughter\, Mark knows that it's never too early to teach children so although the book is designed for younger readers (Talia reviewed each page)\, adults will find it teeming with history\, biology and a thoughtful view of ecology.
X-ALT-DESC;FMTTYPE=text/html:Scientists say that the number of large fish in the ocean has decreased by 90% over the past 50 years. Could they be gone in the next 50 years? Mark Kurlansky\, the author of the New York Times bestseller Cod\, and his 10-year-old daughter and fishing companion Talia\, talk about the prolific author&#39\;s latest book\, World Without Fish. As the father of a young daughter\, Mark knows that it&#39\;s never too early to teach children so although the book is designed for younger readers (Talia reviewed each page)\, adults will find it teeming with history\, biology and a thoughtful view of ecology.
LOCATION:Latitude 41° Restaurant at Mystic Seaport
UID:e.726.1589
SEQUENCE:3
DTSTAMP:20260423T020857Z
URL:http://public.oceanchamber.org/events/details/mark-kurlansky-at-mystic-seaport-1589
END:VEVENT

END:VCALENDAR
