BEGIN:VCALENDAR
VERSION:2.0
PRODID:-//ChamberMaster//Event Calendar 2.0//EN
METHOD:PUBLISH
X-PUBLISHED-TTL:P3D
REFRESH-INTERVAL:P3D
CALSCALE:GREGORIAN
BEGIN:VEVENT
DTSTART:20120112T230000Z
DTEND:20120113T010000Z
X-MICROSOFT-CDO-ALLDAYEVENT:FALSE
SUMMARY:Managing Your Diabetes
DESCRIPTION:This five-week diabetes management class taught by Certified Diabetes Outpatient Educators (pharmacist\, nurse\, registered dietitian) covers all aspects of diabetes management: nutrition fundamentals\, label reading\, meal planning\, glucose monitoring\, medication management\, insulin treatment\, foot care\, exercise\, preventing complications\, and more.  With a physician's referral\, many insurance companies cover the cost of these sessions.  For more information on the class or to register\, call The Westerly Hospital Diabetes Clinic at 401-348-3533 or 1-800-348-5960 ext. 3533.
X-ALT-DESC;FMTTYPE=text/html:This five-week diabetes management class taught by Certified Diabetes Outpatient Educators (pharmacist\, nurse\, registered dietitian) covers all aspects of diabetes management: nutrition fundamentals\, label reading\, meal planning\, glucose monitoring\, medication management\, insulin treatment\, foot care\, exercise\, preventing complications\, and more.&nbsp\; With a physician&#39\;s referral\, many insurance companies cover the cost of these sessions.&nbsp\; For more information on the class or to register\, call The Westerly Hospital Diabetes Clinic at 401-348-3533 or 1-800-348-5960 ext. 3533.&nbsp\; 
LOCATION:The Westerly Hospital\, Nardone Conference Center\, 25 Wells St.\, Westerly\, RI
UID:e.726.1208
SEQUENCE:3
DTSTAMP:20260423T034345Z
URL:http://public.oceanchamber.org/events/details/managing-your-diabetes-1208
END:VEVENT

END:VCALENDAR
