BEGIN:VCALENDAR
VERSION:2.0
PRODID:-//ChamberMaster//Event Calendar 2.0//EN
METHOD:PUBLISH
X-PUBLISHED-TTL:P3D
REFRESH-INTERVAL:P3D
CALSCALE:GREGORIAN
BEGIN:VEVENT
DTSTART:20131002T160000Z
DTEND:20131002T160000Z
X-MICROSOFT-CDO-ALLDAYEVENT:FALSE
SUMMARY:Making Strides Against Breast Cancer - Fundraising Event
DESCRIPTION:Come out for a night of ice cream and fun to support Making Strides Against Breast Cancer for the American Cancer Society! 20% of all sales from 6-9pm will be donated directly to the cause. Come on down\, bring the kids\, your friends\, and family and support Making Strides Against Breast Cancer.
X-ALT-DESC;FMTTYPE=text/html:Come out for a night of ice cream and fun to support Making Strides Against Breast Cancer for the American Cancer Society! 20% of all sales from 6-9pm will be donated directly to the cause. Come on down\, bring the kids\, your friends\, and family and support Making Strides Against Breast Cancer.
LOCATION:Mel's Downtown Creamery: 37 West Broad St. Pawcatuck CT
UID:e.726.4036
SEQUENCE:3
DTSTAMP:20260421T210935Z
URL:http://public.oceanchamber.org/events/details/making-strides-against-breast-cancer-fundraising-event-4036
END:VEVENT

END:VCALENDAR
