BEGIN:VCALENDAR
VERSION:2.0
PRODID:-//ChamberMaster//Event Calendar 2.0//EN
METHOD:PUBLISH
X-PUBLISHED-TTL:P3D
REFRESH-INTERVAL:P3D
CALSCALE:GREGORIAN
BEGIN:VEVENT
DTSTART:20130822T230000Z
DTEND:20130823T000000Z
X-MICROSOFT-CDO-ALLDAYEVENT:FALSE
SUMMARY:MAGIC BY THE SEA with Larry and David
DESCRIPTION:For the Family.
X-ALT-DESC;FMTTYPE=text/html:For the Family.
LOCATION:The Windjammer 321 Atlantic Ave. Westerly\, RI
UID:e.726.3511
SEQUENCE:3
DTSTAMP:20260421T230657Z
URL:http://public.oceanchamber.org/events/details/magic-by-the-sea-with-larry-and-david-08-22-2013-3511
END:VEVENT

END:VCALENDAR
