BEGIN:VCALENDAR
VERSION:2.0
PRODID:-//ChamberMaster//Event Calendar 2.0//EN
METHOD:PUBLISH
X-PUBLISHED-TTL:P3D
REFRESH-INTERVAL:P3D
CALSCALE:GREGORIAN
BEGIN:VEVENT
DTSTART:20120127T000000Z
DTEND:20120127T010000Z
X-MICROSOFT-CDO-ALLDAYEVENT:FALSE
SUMMARY:Looking for a Fresh Start with your Dog?
DESCRIPTION:Please join for a fun\, informative evening with their resident dog trainer and veterinary technician Beth McGuire! A professional trainer with over 10 years experience\, Beth uses the same approach as the giant mammal trainers at sea world.  Her motto "If you can train a whale\, you can certainly train a dog!"  Learn simple\, easy techniques on helping your canine friends to behave better.  An all positive and gentle approach useful on dogs 8 weeks to 18 years\, you are sure to learn something and laugh along the way!\n\n\n\nBring paper and pen and questions on your dog.  Kindly leave your pet at home\, this is a human only event.
X-ALT-DESC;FMTTYPE=text/html:Please join for a fun\, informative evening with their resident dog trainer and veterinary technician Beth McGuire! A professional trainer with over 10 years experience\, Beth uses the same approach as the giant mammal trainers at sea world.&nbsp\; Her motto &quot\;If you can train a whale\, you can certainly train a dog!&quot\;&nbsp\; Learn simple\, easy techniques on helping your canine friends to behave better.&nbsp\; An all positive and gentle approach useful on dogs 8 weeks to 18 years\, you are sure to learn something and laugh along the way!<br />\n<br />\nBring paper and pen and questions on your dog.&nbsp\; Kindly leave your pet at home\, this is a human only event.
LOCATION:Atlantic Animal Hospital & Wellness Center 5001B South County Trail Charlestown\, RI 02813
UID:e.726.1721
SEQUENCE:3
DTSTAMP:20260423T034324Z
URL:http://public.oceanchamber.org/events/details/looking-for-a-fresh-start-with-your-dog-1721
END:VEVENT

END:VCALENDAR
