BEGIN:VCALENDAR
VERSION:2.0
PRODID:-//ChamberMaster//Event Calendar 2.0//EN
METHOD:PUBLISH
X-PUBLISHED-TTL:P3D
REFRESH-INTERVAL:P3D
CALSCALE:GREGORIAN
BEGIN:VEVENT
DTSTART;VALUE=DATE:20120218
DTEND;VALUE=DATE:20120227
TRANSP:TRANSPARENT
X-MICROSOFT-CDO-ALLDAYEVENT:TRUE
SUMMARY:Liberty Days at Mystic Seaport
DESCRIPTION:Come to Mystic Seaport and celebrate winter school vacation the way that sailors have enjoyed their days off from work (Liberty Days) for many years! Start a band by making your own banjo from a variety of household items\, take a special tour of the last American wooden whaling ship\, Charles W. Morgan from a child's point of view\, dig through a sailor's sea chest to discover what he might take to sea with him\, participate in storytime in the Children's Museum\, and explore our musical exhibit\, "Neptune's Orchestra."
X-ALT-DESC;FMTTYPE=text/html:Come to Mystic Seaport and celebrate winter school vacation the way that sailors have enjoyed their days off from work (Liberty Days) for many years! Start a band by making your own banjo from a variety of household items\, take a special tour of the last American wooden whaling ship\, <em>Charles W. Morgan</em> from a child&#39\;s point of view\, dig through a sailor&#39\;s sea chest to discover what he might take to sea with him\, participate in storytime in the Children&#39\;s Museum\, and explore our musical exhibit\, &quot\;Neptune&#39\;s Orchestra.&quot\; 
LOCATION:Mystic Seaport
UID:e.726.1590
SEQUENCE:3
DTSTAMP:20260423T020947Z
URL:http://public.oceanchamber.org/events/details/liberty-days-at-mystic-seaport-1590
END:VEVENT

END:VCALENDAR
