BEGIN:VCALENDAR
VERSION:2.0
PRODID:-//ChamberMaster//Event Calendar 2.0//EN
METHOD:PUBLISH
X-PUBLISHED-TTL:P3D
REFRESH-INTERVAL:P3D
CALSCALE:GREGORIAN
BEGIN:VEVENT
DTSTART:20130217T120000Z
DTEND:20130217T160000Z
X-MICROSOFT-CDO-ALLDAYEVENT:FALSE
SUMMARY:KNIGHTS OF COLUMBUS BREAKFAST
DESCRIPTION:MONTHLY BREAKFAST
X-ALT-DESC;FMTTYPE=text/html:MONTHLY BREAKFAST
LOCATION:33 1/3 HIGH STREET BEHIND MICELI FURNITURE
UID:e.726.3232
SEQUENCE:3
DTSTAMP:20260422T095451Z
URL:http://public.oceanchamber.org/events/details/knights-of-columbus-breakfast-3232
END:VEVENT

END:VCALENDAR
