BEGIN:VCALENDAR
VERSION:2.0
PRODID:-//ChamberMaster//Event Calendar 2.0//EN
METHOD:PUBLISH
X-PUBLISHED-TTL:P3D
REFRESH-INTERVAL:P3D
CALSCALE:GREGORIAN
BEGIN:VEVENT
DTSTART:20120102T143000Z
DTEND:20120102T153000Z
X-MICROSOFT-CDO-ALLDAYEVENT:FALSE
SUMMARY:Job Search Assistance Club
DESCRIPTION:
X-ALT-DESC;FMTTYPE=text/html:
LOCATION:Pawcatuck Neighborhood Center 27 Chase Street Pawcatuck\, CT
UID:e.726.1483
SEQUENCE:3
DTSTAMP:20260423T034800Z
URL:http://public.oceanchamber.org/events/details/job-search-assistance-club-1483
END:VEVENT

END:VCALENDAR
