BEGIN:VCALENDAR
VERSION:2.0
PRODID:-//ChamberMaster//Event Calendar 2.0//EN
METHOD:PUBLISH
X-PUBLISHED-TTL:P3D
REFRESH-INTERVAL:P3D
CALSCALE:GREGORIAN
BEGIN:VEVENT
DTSTART:20131204T220000Z
DTEND:20131205T010000Z
X-MICROSOFT-CDO-ALLDAYEVENT:FALSE
SUMMARY:Craft Fair and Bake Sale during Holiday Stroll
DESCRIPTION:The Westerly Land Trust headquarters will be bustling during the Holiday Stroll!  Our Thursday hikers are hosting the annual craft show\, bake sale and raffle\, to benefit our cause.  Come do some holiday shopping that supports and celebrates land conservation! Find us at 10 High Street and www.westerlylandtrust.org.
X-ALT-DESC;FMTTYPE=text/html:<span style="font-family:arial\;">The Westerly Land Trust headquarters will be bustling during the Holiday Stroll!&nbsp\; Our Thursday hikers are hosting the annual craft show\, bake sale and raffle\, to benefit our cause.&nbsp\; Come do some holiday shopping that supports and celebrates land conservation! Find us at 10 High Street and <a href="http://www.westerlylandtrust.org">www.westerlylandtrust.org</a>. </span>
LOCATION:Westerly Land Trust 10 High St Westerly\, RI 02891
UID:e.726.4130
SEQUENCE:3
DTSTAMP:20260421T172423Z
URL:http://public.oceanchamber.org/events/details/holiday-stroll-craft-fair-and-bake-sale-4130
END:VEVENT

END:VCALENDAR
