BEGIN:VCALENDAR
VERSION:2.0
PRODID:-//ChamberMaster//Event Calendar 2.0//EN
METHOD:PUBLISH
X-PUBLISHED-TTL:P3D
REFRESH-INTERVAL:P3D
CALSCALE:GREGORIAN
BEGIN:VEVENT
DTSTART:20120222T230000Z
DTEND:20120223T003000Z
X-MICROSOFT-CDO-ALLDAYEVENT:FALSE
SUMMARY:Heart Health
DESCRIPTION:Join Cardiologist David Donaldson\, MD\, for an update on heart health considerations.  Question and answer session will follow presentation.  Free program but registration required.  Call 401-348-3433 or 1-800-933-5960 to register. Leave your name\, name of program\, and your telephone number.
X-ALT-DESC;FMTTYPE=text/html:Join Cardiologist David Donaldson\, MD\, for an update on heart health considerations.&nbsp\; Question and answer session will follow presentation.&nbsp\; Free program but registration required.&nbsp\; Call 401-348-3433 or 1-800-933-5960 to register. Leave your name\, name of program\, and your telephone number. 
LOCATION:The Westerly Hospital\, Nardone Conference Center
UID:e.726.1716
SEQUENCE:3
DTSTAMP:20260423T020859Z
URL:http://public.oceanchamber.org/events/details/heart-health-1716
END:VEVENT

END:VCALENDAR
