BEGIN:VCALENDAR
VERSION:2.0
PRODID:-//ChamberMaster//Event Calendar 2.0//EN
METHOD:PUBLISH
X-PUBLISHED-TTL:P3D
REFRESH-INTERVAL:P3D
CALSCALE:GREGORIAN
BEGIN:VEVENT
DTSTART:20131213T150000Z
DTEND:20131213T200000Z
X-MICROSOFT-CDO-ALLDAYEVENT:FALSE
SUMMARY:Gifts of the Land: Winter Solstice
DESCRIPTION:Winter Warm-up from Hawaii\n\n		Tiare Kahana takes audiences on a virtual journey through Hawaii's past and present with dance and storytelling. Learn the history of hula\, the language\, customs\, and traditions of the islands with her fun\, energetic\, and interactive presentation. Audiences of all ages enjoy participating in segments throughout the show as they learn different styles of Polynesian dance. In the Gathering Space. Free with Museum admission\, free to Museum members. - See more at: http://www.pequotmuseum.org/EventCalendar.aspx#sthash.PKMnhjZG.dpuf\n\n		 \n	Winter Warm-up from Hawaii\n\n	Tiare Kahana takes audiences on a virtual journey through Hawaii's past and present with dance and storytelling. Learn the history of hula\, the language\, customs\, and traditions of the islands with her fun\, energetic\, and interactive presentation. Audiences of all ages enjoy participating in segments throughout the show as they learn different styles of Polynesian dance. In the Gathering Space. Free with Museum admission\, free to Museum members. - See more at: http://www.pequotmuseum.org/EventCalendar.aspx#sthash.PKMnhjZG.dpuf\n\n	 \nJoin our winter thanksgiving celebration with age-old stories and activities for the whole family in the Gathering Space. Bring light to the winter by creating your own luminaries and find out "Why Rabbit Turns White" at the puppet show in the Auditorium Lobby at 11 am and 2 pm. Visit with Wayne Reels (Mashantucket Pequot)\, director of Cultural Resources\, by the fire on the Farmstead 11:30 am 1:30 pm\, to learn about gifts of winter and why Native people celebrate a winter thanksgiving. Free with Museum admission\, free to Museum members - See more at: http://www.pequotmuseum.org/EventCalendar.aspx#sthash.PKMnhjZG.dpuf\n\n\n	 \n\n	Winter Warm-up from Hawaii\n\n	Tiare Kahana takes audiences on a virtual journey through Hawaii's past and present with dance and storytelling. Learn the history of hula\, the language\, customs\, and traditions of the islands with her fun\, energetic\, and interactive presentation. Audiences of all ages enjoy participating in segments throughout the show as they learn different styles of Polynesian dance. In the Gathering Space. Free with Museum admission\, free to Museum members. - See more at: http://www.pequotmuseum.org/EventCalendar.aspx#sthash.PKMnhjZG.dpuf\n\n	 \n\n	Winter Warm-up from Hawaii\n\n	Tiare Kahana takes audiences on a virtual journey through Hawaii's past and present with dance and storytelling. Learn the history of hula\, the language\, customs\, and traditions of the islands with her fun\, energetic\, and interactive presentation. Audiences of all ages enjoy participating in segments throughout the show as they learn different styles of Polynesian dance. In the Gathering Space. Free with Museum admission\, free to Museum members. - See more at: http://www.pequotmuseum.org/EventCalendar.aspx#sthash.PKMnhjZG.dpuf
X-ALT-DESC;FMTTYPE=text/html:<div id="stcpDiv" style="position: absolute\; top: -1999px\; left: -1988px\;">\n	<div id="stcpDiv" style="position: absolute\; top: -1999px\; left: -1988px\;">\n		<strong>Winter Warm-up from Hawaii</strong><br />\n		Tiare Kahana takes audiences on a virtual journey through Hawaii&rsquo\;s past and present with dance and storytelling. Learn the history of hula\, the language\, customs\, and traditions of the islands with her fun\, energetic\, and interactive presentation. Audiences of all ages enjoy participating in segments throughout the show as they learn different styles of Polynesian dance. In the Gathering Space. Free with Museum admission\, free to Museum members. - See more at: http://www.pequotmuseum.org/EventCalendar.aspx#sthash.PKMnhjZG.dpuf<br />\n		&nbsp\;</div>\n	<strong>Winter Warm-up from Hawaii</strong><br />\n	Tiare Kahana takes audiences on a virtual journey through Hawaii&rsquo\;s past and present with dance and storytelling. Learn the history of hula\, the language\, customs\, and traditions of the islands with her fun\, energetic\, and interactive presentation. Audiences of all ages enjoy participating in segments throughout the show as they learn different styles of Polynesian dance. In the Gathering Space. Free with Museum admission\, free to Museum members. - See more at: http://www.pequotmuseum.org/EventCalendar.aspx#sthash.PKMnhjZG.dpuf<br />\n	&nbsp\;</div>\nJoin our winter thanksgiving celebration with age-old stories and activities for the whole family in the Gathering Space. Bring light to the winter by creating your own luminaries and find out &ldquo\;Why Rabbit Turns White&rdquo\; at the puppet show in the Auditorium Lobby at 11 am and 2 pm. Visit with Wayne Reels (Mashantucket Pequot)\, director of Cultural Resources\, by the fire on the Farmstead 11:30 am&ndash\;1:30 pm\, to learn about gifts of winter and why Native people celebrate a winter thanksgiving. Free with Museum admission\, free to Museum members - See more at: http://www.pequotmuseum.org/EventCalendar.aspx#sthash.PKMnhjZG.dpuf<br />\n<div id="stcpDiv" style="position: absolute\; top: -1999px\; left: -1988px\;">\n	&nbsp\;</div>\n<div id="stcpDiv" style="position: absolute\; top: -1999px\; left: -1988px\;">\n	<strong>Winter Warm-up from Hawaii</strong><br />\n	Tiare Kahana takes audiences on a virtual journey through Hawaii&rsquo\;s past and present with dance and storytelling. Learn the history of hula\, the language\, customs\, and traditions of the islands with her fun\, energetic\, and interactive presentation. Audiences of all ages enjoy participating in segments throughout the show as they learn different styles of Polynesian dance. In the Gathering Space. Free with Museum admission\, free to Museum members. - See more at: http://www.pequotmuseum.org/EventCalendar.aspx#sthash.PKMnhjZG.dpuf<br />\n	&nbsp\;</div>\n<div id="stcpDiv" style="position: absolute\; top: -1999px\; left: -1988px\;">\n	<strong>Winter Warm-up from Hawaii</strong><br />\n	Tiare Kahana takes audiences on a virtual journey through Hawaii&rsquo\;s past and present with dance and storytelling. Learn the history of hula\, the language\, customs\, and traditions of the islands with her fun\, energetic\, and interactive presentation. Audiences of all ages enjoy participating in segments throughout the show as they learn different styles of Polynesian dance. In the Gathering Space. Free with Museum admission\, free to Museum members. - See more at: http://www.pequotmuseum.org/EventCalendar.aspx#sthash.PKMnhjZG.dpuf<br />\n	&nbsp\;</div>\n
LOCATION:110 Pequot Trail\, Mashantucket CT 06338
UID:e.726.4138
SEQUENCE:3
DTSTAMP:20260421T170244Z
URL:http://public.oceanchamber.org/events/details/gifts-of-the-land-winter-solstice-4138
END:VEVENT

END:VCALENDAR
