BEGIN:VCALENDAR
VERSION:2.0
PRODID:-//ChamberMaster//Event Calendar 2.0//EN
METHOD:PUBLISH
X-PUBLISHED-TTL:P3D
REFRESH-INTERVAL:P3D
CALSCALE:GREGORIAN
BEGIN:VEVENT
DTSTART:20130919T223000Z
DTEND:20130920T013000Z
X-MICROSOFT-CDO-ALLDAYEVENT:FALSE
SUMMARY:Garden Workshop & Potluck Dinner
DESCRIPTION:Cooking With Your Harvest- There's nothing better than creating wonderful dishes with produce harvested from your own garden.  An expert chef will share knowledge about using local ingredients\, including garden harvest.  Join us at the Main Street community garden and bring a pot luck dish to share.
X-ALT-DESC;FMTTYPE=text/html:<strong>Cooking With Your Harvest-</strong>&nbsp\;There&rsquo\;s nothing better than creating wonderful dishes with produce harvested from your own garden.&nbsp\; An expert chef will&nbsp\;share knowledge about using local ingredients\, including garden harvest.&nbsp\; Join us at the Main Street community garden&nbsp\;and bring a pot luck dish to share.
LOCATION:Community Garden on Main St.
UID:e.726.3821
SEQUENCE:3
DTSTAMP:20260421T225425Z
URL:http://public.oceanchamber.org/events/details/garden-workshop-potluck-dinner-3821
END:VEVENT

END:VCALENDAR
