BEGIN:VCALENDAR
VERSION:2.0
PRODID:-//ChamberMaster//Event Calendar 2.0//EN
METHOD:PUBLISH
X-PUBLISHED-TTL:P3D
REFRESH-INTERVAL:P3D
CALSCALE:GREGORIAN
BEGIN:VEVENT
DTSTART:20120215T171500Z
DTEND:20120215T184500Z
X-MICROSOFT-CDO-ALLDAYEVENT:FALSE
SUMMARY:Fresh Connections for Women/Westerly Chapter meeting
DESCRIPTION:Join the businesswomen of FreshConnections for a lunchtime meeting on February 15 at the Chamber building.  Suzanne Giorno\, a Financial Advisor from Merrill Lynch will be the Showcase speaker.  Bring your lunch and enjoy an interesting presentation and great networking opportunities.
X-ALT-DESC;FMTTYPE=text/html:Join the businesswomen of FreshConnections for a lunchtime meeting on February 15 at the Chamber building.&nbsp\; Suzanne Giorno\, a Financial Advisor from Merrill Lynch will be the Showcase speaker.&nbsp\; Bring your lunch and enjoy an interesting presentation and great networking opportunities.
LOCATION:1 Chamber Way
UID:e.726.1950
SEQUENCE:3
DTSTAMP:20260423T021029Z
URL:http://public.oceanchamber.org/events/details/fresh-connections-for-women-westerly-chapter-meeting-1950
END:VEVENT

END:VCALENDAR
