BEGIN:VCALENDAR
VERSION:2.0
PRODID:-//ChamberMaster//Event Calendar 2.0//EN
METHOD:PUBLISH
X-PUBLISHED-TTL:P3D
REFRESH-INTERVAL:P3D
CALSCALE:GREGORIAN
BEGIN:VEVENT
DTSTART:20120118T171500Z
DTEND:20120118T184500Z
X-MICROSOFT-CDO-ALLDAYEVENT:FALSE
SUMMARY:Fresh Connections for Women meeting
DESCRIPTION:Join the women of FreshConnections for our regular lunch time meeting.  Have an opportunity to get to know other businesswomen in the area.  Only one of a profession in each chapter of no more than 25 members.\n\nThis week's meeting will showcase chapter member Harriet "Grant Guru" Grayson of 5 Star Seminars and Ocean Breeze Press.  Harriet will highlight the importance of grants writing and special events for the growth and general financial well being of community organizations.
X-ALT-DESC;FMTTYPE=text/html:Join the women of FreshConnections for our regular lunch time meeting.&nbsp\; Have an opportunity to get to know other businesswomen in the area.&nbsp\; Only one of a profession in each chapter of no more than 25 members.<br />\n<span style="font-family:Verdana\; color:#000000\; font-size:10pt\;"><span style="font-family: Verdana\; color: rgb(0\, 0\, 0)\; font-size: 10pt\;"><span style="right: auto\;">This week&#39\;s meeting will showcase chapter member Harriet &quot\;Grant Guru&quot\; Grayson of 5 Star Seminars and Ocean Breeze Press.&nbsp\; Harriet will highlight the importance of grants writing and special events for the growth and general financial well being of community organizations. </span></span></span><br />\n
LOCATION:Newport Federal\, Post Rd\, Westerly\, RI
UID:e.726.1585
SEQUENCE:3
DTSTAMP:20260423T034811Z
URL:http://public.oceanchamber.org/events/details/fresh-connections-for-women-meeting-1585
END:VEVENT

END:VCALENDAR
