BEGIN:VCALENDAR
VERSION:2.0
PRODID:-//ChamberMaster//Event Calendar 2.0//EN
METHOD:PUBLISH
X-PUBLISHED-TTL:P3D
REFRESH-INTERVAL:P3D
CALSCALE:GREGORIAN
BEGIN:VEVENT
DTSTART:20120103T230000Z
DTEND:20120104T003000Z
X-MICROSOFT-CDO-ALLDAYEVENT:FALSE
SUMMARY:Freedom From Smoking
DESCRIPTION:This free\, smoking cessation class meets for seven weeks and is taught by Hospital respiratory therapists trainied in the American Lung Association Freedom from Smoking program.  Classes cover strategies and tools to help you become and remain smoke free.  Registration limited to 15 participants.  Call 401-348-2300 ot 1-800-933-5960 ext. 3423 to register.
X-ALT-DESC;FMTTYPE=text/html:This free\, smoking cessation class meets for seven weeks and is taught by Hospital respiratory therapists trainied in the American Lung Association Freedom from Smoking program.&nbsp\; Classes cover strategies and tools to help you become and remain smoke free.&nbsp\; Registration limited to 15 participants.&nbsp\; Call 401-348-2300 ot 1-800-933-5960 ext. 3423 to register. 
LOCATION:The Westerly Hospital\, Nardone Conference Center\, 25 Wells Street\, Westerly\, RI
UID:e.726.1207
SEQUENCE:3
DTSTAMP:20260423T032348Z
URL:http://public.oceanchamber.org/events/details/freedom-from-smoking-1207
END:VEVENT

END:VCALENDAR
