BEGIN:VCALENDAR
VERSION:2.0
PRODID:-//ChamberMaster//Event Calendar 2.0//EN
METHOD:PUBLISH
X-PUBLISHED-TTL:P3D
REFRESH-INTERVAL:P3D
CALSCALE:GREGORIAN
BEGIN:VEVENT
DTSTART:20130129T230000Z
DTEND:20130130T020000Z
X-MICROSOFT-CDO-ALLDAYEVENT:FALSE
SUMMARY:Fly-Tying Classes
DESCRIPTION:Join WPWA volunteer and Trout Unlimited instructor\, Jay Boyer\, for a series of fly-tying lessons at the Wood-Pawcatuck Watershed Association Campus that will get you ready for fishing season.
X-ALT-DESC;FMTTYPE=text/html:Join WPWA volunteer and Trout Unlimited instructor\, Jay Boyer\, for a series of fly-tying lessons at the Wood-Pawcatuck Watershed Association Campus that will get you ready for fishing season. 
LOCATION:Wood-Pawcatuck Watershed Association\, 203 Arcadia Rd\, Hope Valley\, RI
UID:e.726.3151
SEQUENCE:3
DTSTAMP:20260422T094418Z
URL:http://public.oceanchamber.org/events/details/fly-tying-classes-3151
END:VEVENT

END:VCALENDAR
