BEGIN:VCALENDAR
VERSION:2.0
PRODID:-//ChamberMaster//Event Calendar 2.0//EN
METHOD:PUBLISH
X-PUBLISHED-TTL:P3D
REFRESH-INTERVAL:P3D
CALSCALE:GREGORIAN
BEGIN:VEVENT
DTSTART:20130427T120000Z
DTEND:20130427T140000Z
X-MICROSOFT-CDO-ALLDAYEVENT:FALSE
SUMMARY:Flapjack Breakfast
DESCRIPTION:To benefit Bark for Life.\n\n\n\nCome & Enjoy some pancakes\, bacon and coffee to help support a good cause!
X-ALT-DESC;FMTTYPE=text/html:To benefit Bark for Life.<br />\n<br />\nCome &amp\; Enjoy some pancakes\, bacon and coffee to help support a good cause!<br />\n<br />\n
LOCATION:Applebee's Post Road Westerly\, RI
UID:e.726.3619
SEQUENCE:3
DTSTAMP:20260422T045729Z
URL:http://public.oceanchamber.org/events/details/flapjack-breakfast-3619
END:VEVENT

END:VCALENDAR
