BEGIN:VCALENDAR
VERSION:2.0
PRODID:-//ChamberMaster//Event Calendar 2.0//EN
METHOD:PUBLISH
X-PUBLISHED-TTL:P3D
REFRESH-INTERVAL:P3D
CALSCALE:GREGORIAN
BEGIN:VEVENT
DTSTART:20130713T223000Z
DTEND:20130714T123000Z
X-MICROSOFT-CDO-ALLDAYEVENT:FALSE
SUMMARY:Family Overnight
DESCRIPTION:FAMILY OVERNIGHT AT THE NATURE CENTER\n\nSleep with the owls during our annual family overnight at the Nature Center. Learn about nocturnal animals like bats\, owls and moths. Test your night senses and enjoy a campfire with s'mores. In the morning\, take an early morning walk or sleep awhile longer before a quick breakfast. Participants may sleep inside or pitch a tent on the grounds of the Nature Center.\n\n\n\nPlease contact the Denison Pequotsepos Nature Center at 860.536.1216 for reservations and directions as needed.
X-ALT-DESC;FMTTYPE=text/html:<span style="font-size:11.0pt\;">FAMILY OVERNIGHT AT THE NATURE CENTER</span><br />\n<span style="font-size:11.0pt\;">Sleep with the owls during our annual family overnight at the Nature Center. Learn about nocturnal animals like bats\, owls and moths. Test your night senses and enjoy a campfire with s&rsquo\;mores. In the morning\, take an early morning walk or sleep awhile longer before a quick breakfast. Participants may sleep inside or pitch a tent on the grounds of the Nature Center.</span><br />\n<br />\n<span style="font-size:11.0pt\;">Please contact the Denison Pequotsepos Nature Center at 860.536.1216 for reservations and directions as needed.</span>
LOCATION:
UID:e.726.3868
SEQUENCE:3
DTSTAMP:20260422T003351Z
URL:http://public.oceanchamber.org/events/details/family-overnight-3868
END:VEVENT

END:VCALENDAR
