BEGIN:VCALENDAR
VERSION:2.0
PRODID:-//ChamberMaster//Event Calendar 2.0//EN
METHOD:PUBLISH
X-PUBLISHED-TTL:P3D
REFRESH-INTERVAL:P3D
CALSCALE:GREGORIAN
BEGIN:VEVENT
DTSTART:20120201T171500Z
DTEND:20120201T184500Z
X-MICROSOFT-CDO-ALLDAYEVENT:FALSE
SUMMARY:Event at Fresh Connections
DESCRIPTION:Join the women of FreshConnections  for our regular meeting.  This is a great opportunity to meet other businesswomen in the area.  Only one of each profession in a chapter of no more than 25 members.  Bring your lunch!  OUr Showcase speaker for this meeting is Gail DiMarco\, certified Life Coach and owner of iflourish Coaching.
X-ALT-DESC;FMTTYPE=text/html:Join the women of FreshConnections&nbsp\; for our regular meeting.&nbsp\; This is a great opportunity to meet other businesswomen in the area.&nbsp\; Only one of each profession in a chapter of no more than 25 members.&nbsp\; Bring your lunch!&nbsp\; OUr Showcase speaker for this meeting is Gail DiMarco\, certified Life Coach and owner of iflourish Coaching.
LOCATION:Westerly/Pawcatuck Chamber of Commerce
UID:e.726.1586
SEQUENCE:3
DTSTAMP:20260423T020445Z
URL:http://public.oceanchamber.org/events/details/event-at-fresh-connections-1586
END:VEVENT

END:VCALENDAR
