BEGIN:VCALENDAR
VERSION:2.0
PRODID:-//ChamberMaster//Event Calendar 2.0//EN
METHOD:PUBLISH
X-PUBLISHED-TTL:P3D
REFRESH-INTERVAL:P3D
CALSCALE:GREGORIAN
BEGIN:VEVENT
DTSTART:20130816T220000Z
DTEND:20130817T010000Z
X-MICROSOFT-CDO-ALLDAYEVENT:FALSE
SUMMARY:De-Stress with Nature:Grown Up Girls Edition
DESCRIPTION:DE-STRESS WITH NATURE: GROWN UP GIRLS EDITION\n\nGreen outdoor space provides relief from the stress of a scheduled\, hurried life. Join us for an inspirational evening of calming rituals and friendship for nature girls over 21 years of age. We'll transform our treehouse at the Nature Center into a secluded getaway for sampling wine & organic chocolate\, guided meditation and a natural beauty treatment you can recreate at home.\n\nMEMBERS: $50. / NON-MEMBERS: $60.\n\nPlease contact the Denison Pequotsepos Nature Center at 860.536.1216 for reservations.
X-ALT-DESC;FMTTYPE=text/html:<span style="font-size:11.0pt\;">DE-STRESS WITH NATURE: GROWN UP GIRLS EDITION</span><br />\n<span style="font-size:11.0pt\;">Green outdoor space provides relief from the stress of a scheduled\, hurried life. Join us for an inspirational evening of calming rituals and friendship for nature girls over 21 years of age. We&rsquo\;ll transform our treehouse at the Nature Center into a secluded getaway for sampling wine &amp\; organic chocolate\, guided meditation and a natural beauty treatment you can recreate at home.</span><br />\n<span style="font-size:11.0pt\;">MEMBERS: $50. / NON-MEMBERS: $60.</span><br />\n<span style="font-size:11.0pt\;">Please contact the Denison Pequotsepos Nature Center at 860.536.1216 for reservations.</span>
LOCATION:Denison Pequotsepos Nature Center 109 Pequotsepos Rd. Mystic\, CT 06355
UID:e.726.3939
SEQUENCE:3
DTSTAMP:20260421T231357Z
URL:http://public.oceanchamber.org/events/details/de-stress-with-nature-grown-up-girls-edition-3939
END:VEVENT

END:VCALENDAR
