BEGIN:VCALENDAR
VERSION:2.0
PRODID:-//ChamberMaster//Event Calendar 2.0//EN
METHOD:PUBLISH
X-PUBLISHED-TTL:P3D
REFRESH-INTERVAL:P3D
CALSCALE:GREGORIAN
BEGIN:VEVENT
DTSTART:20121203T180000Z
DTEND:20121203T200000Z
X-MICROSOFT-CDO-ALLDAYEVENT:FALSE
SUMMARY:Community Day
DESCRIPTION:Brickhouse Cardio Club Westerly\, RI offers FREE ZUMBA during Community Day for anyone and everyone! The party starts at 1pm and ends around 3pm. Bring your friends and come on down for FREE ZUMBA!\n\nThere is always a SUPER SPECIAL offered only during Community Day for those who are interested in membership!\n\nThere will also be a demo of R.I.P.P.E.D and possibly Turbo Kick and PIYO!!!! Bring light weights for R.I.P.P.E.D or water bottles\, and a mat or towel for the PIYO if possible!\n\nBring your friends and your energy and come on down for ZUMBA!
X-ALT-DESC;FMTTYPE=text/html:&nbsp\;Brickhouse Cardio Club Westerly\, RI offers FREE ZUMBA during Community Day for anyone and everyone! The party starts at 1pm and ends around 3pm. Bring your friends and come on down for FREE ZUMBA!<br />\nThere is always a SUPER SPECIAL offered only during Community Day for those who are interested in membership!<br />\nThere will also be a demo of R.I.P.P.E.D and possibly Turbo Kick and PIYO!!!! Bring light weights for R.I.P.P.E.D or water bottles\, and a mat or towel for the PIYO if possible!<br />\nBring your friends and your energy and come on down for ZUMBA! 
LOCATION:Brickhouse 12 High Street Unit #1 Westerly RI
UID:e.726.3070
SEQUENCE:3
DTSTAMP:20260422T111916Z
URL:http://public.oceanchamber.org/events/details/community-day-3070
END:VEVENT

END:VCALENDAR
