BEGIN:VCALENDAR
VERSION:2.0
PRODID:-//ChamberMaster//Event Calendar 2.0//EN
METHOD:PUBLISH
X-PUBLISHED-TTL:P3D
REFRESH-INTERVAL:P3D
CALSCALE:GREGORIAN
BEGIN:VEVENT
DTSTART:20130710T200000Z
DTEND:20130710T230000Z
X-MICROSOFT-CDO-ALLDAYEVENT:FALSE
SUMMARY:Community Celebration at the Westerly Hospital
DESCRIPTION:The Westerly Hospital cordially invites the community to join in on a Community Celebration to be held on the Westerly Hospital grounds on Wednesday\, July 10 from 4   7 p.m.  This fun family event will feature an outdoor cookout\, fun activities for the kids\, and a live broadcast from local WBLQ radio.  The event will take place rain or shine.  For information on the event\, visit www.westerlyhospital.org.
X-ALT-DESC;FMTTYPE=text/html:The Westerly Hospital cordially invites the community to join in on a Community Celebration to be held on the Westerly Hospital grounds on Wednesday\, July 10 from 4 &ndash\; 7 p.m.&nbsp\; This fun family event will feature an outdoor cookout\, fun activities for the kids\, and a live broadcast from local WBLQ radio.&nbsp\; The event will take place rain or shine.&nbsp\; For information on the event\, visit www.westerlyhospital.org.<br />\n
LOCATION:The Westerly Hospital\, 25 Wells Street\, Westerly
UID:e.726.3901
SEQUENCE:3
DTSTAMP:20260422T020248Z
URL:http://public.oceanchamber.org/events/details/community-celebration-at-the-westerly-hospital-3901
END:VEVENT

END:VCALENDAR
