BEGIN:VCALENDAR
VERSION:2.0
PRODID:-//ChamberMaster//Event Calendar 2.0//EN
METHOD:PUBLISH
X-PUBLISHED-TTL:P3D
REFRESH-INTERVAL:P3D
CALSCALE:GREGORIAN
BEGIN:VEVENT
DTSTART:20121201T140000Z
DTEND:20121201T190000Z
X-MICROSOFT-CDO-ALLDAYEVENT:FALSE
SUMMARY:Christmas Bazaar
DESCRIPTION:Local residents tell us that the Babcock-Smith House Christmas Bazaar is one of their annual favorites! Linens\, jewelry\, collectibles\, holiday decorative greens and our homemade cookies and baked items are especially popular. Coffee and muffins will be served in the dining room of the Museum House. Joshua's Store is especially well-stocked with handmade gifts at this time. This is one bazaar not to be missed!
X-ALT-DESC;FMTTYPE=text/html:Local residents tell us that the Babcock-Smith House Christmas Bazaar is one of their annual favorites! Linens\, jewelry\, collectibles\, holiday decorative greens and our homemade cookies and baked items are especially popular. Coffee and muffins will be served in the dining room of the Museum House. Joshua&#39\;s Store is especially well-stocked with handmade gifts at this time. This is one bazaar not to be missed!
LOCATION:Babcock-Smith House Museum 124 Granite St Westerly\, RI
UID:e.726.2028
SEQUENCE:3
DTSTAMP:20260422T111808Z
URL:http://public.oceanchamber.org/events/details/christmas-bazaar-2028
END:VEVENT

END:VCALENDAR
