BEGIN:VCALENDAR
VERSION:2.0
PRODID:-//ChamberMaster//Event Calendar 2.0//EN
METHOD:PUBLISH
X-PUBLISHED-TTL:P3D
REFRESH-INTERVAL:P3D
CALSCALE:GREGORIAN
BEGIN:VEVENT
DTSTART:20131012T153000Z
DTEND:20131014T210000Z
X-MICROSOFT-CDO-ALLDAYEVENT:FALSE
SUMMARY:Chowder Days at Mystic Seaport
DESCRIPTION:Nothing is better than a hot bowl of chowder on a cool autumn day\, and Chowder Days at Mystic Seaport is just the time and place to indulge. The menu of Coastal Gourmet Chowder Days is sure to satisfy all appetites. There will be several kinds of chowders to select from along with clam cakes and assorted gourmet sandwiches. Of course\, you should round out your meal with a yummy dessert. Latitude 41 Shipyard Tavern beers and wines will also be served. Food and beverage tickets will be sold on site.
X-ALT-DESC;FMTTYPE=text/html:Nothing is better than a hot bowl of chowder on a cool autumn day\, and Chowder Days at Mystic Seaport is just the time and place to indulge. The menu of Coastal Gourmet Chowder Days is sure to satisfy all appetites. There will be several kinds of chowders to select from along with clam cakes and assorted gourmet sandwiches. Of course\, you should round out your meal with a yummy dessert. Latitude 41 Shipyard Tavern beers and wines will also be served. Food and beverage tickets will be sold on site.<br />\n<br />\n
LOCATION:Mystic Seaport
UID:e.726.3563
SEQUENCE:3
DTSTAMP:20260421T200038Z
URL:http://public.oceanchamber.org/events/details/chowder-days-at-mystic-seaport-3563
END:VEVENT

END:VCALENDAR
